Workbook

Sheet 规则配置
A3: 部门归属 | B3: 项目风险 | C3: 项目等级 | D3: 资源类型 | E3: 资源等级 | F3: 语言能力 | G3: 资源部门 | H3: 研发项目类型 | I3: 内外销项目类型 | J3: 研发项目阶段 | K3: 内外销项目阶段 | L3: 客户集团 | M3: 区域 | N3: 国家 | O3: 地区 | P3: 设备型号
A4: 内销 | B4: 高 | C4: M0 | D4: 调试 | E4: T0 | F4: 0 | G4: 海外售后 | H4: 技术预研 | I4: 样机 | J4: 0市场调研 | K4: 0准备 | L4: Elrad | M4: 欧洲和北非 | N4: 塞尔维亚 | O4: 塞尔维亚南部 | P4: 60X
A5: 外销 | B5: 中 | C5: M1 | D5: 售后 | E5: T1 | F5: 5 | G5: 国内售后 | H5: 功能验证 | I5: 批量机 | J5: 1产品规划 | K5: 1启动 | L5: Versigent | M5: 北美 | N5: 葡萄牙 | O5: 葡萄牙中部 | P5: 60T
A6: 研发 | B6: 低 | C6: M2 | E6: T2 | F6: 7 | G6: 调试 | H6: 模块开发 | I6: 备货 | J6: 2研发立项 | K6: 2研发 | L6: Lear | M6: 亚洲其他 | N6: 墨西哥 | O6: 墨西哥北部 | P6: 680
C7: M3 | E7: T3 | F7: 9 | G7: 研发测试 | H7: 整机开发 | J7: 3研发 | K7: 3采购 | L7: Yazaki | M7: 中国 | N7: 摩洛哥 | O7: 摩洛哥中部 | P7: 860
J8: 4采购 | K8: 4组装 | L8: Leoni | N8: 洪都拉斯 | O8: SPS区域 | P8: 880
J9: 5组装 | K9: 5调试与预验收 | L9: KroSchu | N9: 中国 | O9: 中国区 | P9: 880T
J10: 6测试 | K10: 6发货到货 | L10: KSHG | N10: 罗马尼亚 | O10: 东欧 | P10: 880ST
J11: 7试用 | K11: 7现场调试与SAT | L11: Flex | N11: 日本 | O11: 东亚 | P11: 850
J12: 8产品决策与发布 | K12: 8陪产 | L12: SWS | N12: 波兰 | O12: 塞尔维亚北部 | P12: 其他
J13: 9推广销售 | K13: 9转售后 | L13: Komax | N13: 印度 | O13: 墨西哥中部
K14: 10售后 | L14: KSHG | O14: 墨西哥东部
L15: JT
L16: MD

Sheet 项目清单
A1: 项目清单｜项目基础信息与资源需求
A2: 序号 | B2: 项目号 | C2: 项目等级 | D2: 项目名称 | E2: 登记日期 | F2: 部门归属 | G2: 项目类型 | H2: 项目负责人 | I2: 调试负责人 | J2: 研发负责人 | K2: 软件负责人 | L2: 售后负责人 | M2: 项目风险 | N2: 客户集团 | O2: 区域 | P2: 国家 | Q2: 地区 | R2: 城市 | S2: 工厂 | T2: 设备型号 | U2: 质保时长(月) | V2: 数量 | W2: 项目阶段 | X2: 调试启动日期 | Y2: FAT日期 | Z2: 发货日期 | AA2: 到货日期 | AB2: SAT日期 | AC2: 陪产结束日期 | AD2: 质保开始日期 | AE2: 质保结束日期 | AF2: 调试数量需求 | AG2: 售后数量需求 | AH2: 质保状态（按当天自动更新）
C3: M0 | D3: 250527 Tesla 880T | E3: 45849 | F3: 外销 | G3: 批量机 | M3: 高 | N3: Leoni | O3: 北美 | P3: 墨西哥 | Q3: 墨西哥中部 | R3: Durango | T3: 880T | U3: 24 | V3: 1 | W3: 5调试与预验收 | X3: 45901 | Y3: 46255 | Z3: 46282 | AA3: =Z3+6*7 -> 46324 | AB3: =AA3+5*7 -> 46359 | AC3: =AB3+4*7 -> 46387 | AD3: =AB3 -> 46359 | AE3: =AD3+U3*30 -> 47079 | AF3: 2 | AG3: 1 | AH3: =IF($D3="","",IF(NOT(ISNUMBER($AE3)),"待确认",IF(TODAY()<=$AE3,"质保内","质保外"))) -> 质保内 | AI3: =IF($F3="研发",规则配置!$H$4,IF(OR($F3="内销",$F3="外销"),规则配置!$I$4,"")) -> 样机 | AJ3: =IF($F3="研发",规则配置!$H$5,IF(OR($F3="内销",$F3="外销"),规则配置!$I$5,"")) -> 批量机 | AK3: =IF($F3="研发",规则配置!$H$6,IF(OR($F3="内销",$F3="外销"),规则配置!$I$6,"")) -> 备货 | AL3: =IF($F3="研发",规则配置!$H$7,IF(OR($F3="内销",$F3="外销"),"","")) | AM3: =IF($F3="研发",规则配置!$J$4,IF(OR($F3="内销",$F3="外销"),规则配置!$K$4,"")) -> 0准备 | AN3: =IF($F3="研发",规则配置!$J$5,IF(OR($F3="内销",$F3="外销"),规则配置!$K$5,"")) -> 1启动 | AO3: =IF($F3="研发",规则配置!$J$6,IF(OR($F3="内销",$F3="外销"),规则配置!$K$6,"")) -> 2研发 | AP3: =IF($F3="研发",规则配置!$J$7,IF(OR($F3="内销",$F3="外销"),规则配置!$K$7,"")) -> 3采购 | AQ3: =IF($F3="研发",规则配置!$J$8,IF(OR($F3="内销",$F3="外销"),规则配置!$K$8,"")) -> 4组装 | AR3: =IF($F3="研发",规则配置!$J$9,IF(OR($F3="内销",$F3="外销"),规则配置!$K$9,"")) -> 5调试与预验收 | AS3: =IF($F3="研发",规则配置!$J$10,IF(OR($F3="内销",$F3="外销"),规则配置!$K$10,"")) -> 6发货到货 | AT3: =IF($F3="研发",规则配置!$J$11,IF(OR($F3="内销",$F3="外销"),规则配置!$K$11,"")) -> 7现场调试与SAT | AU3: =IF($F3="研发",规则配置!$J$12,IF(OR($F3="内销",$F3="外销"),规则配置!$K$12,"")) -> 8陪产 | AV3: =IF($F3="研发",规则配置!$J$13,IF(OR($F3="内销",$F3="外销"),规则配置!$K$13,"")) -> 9转售后 | AW3: =IF($F3="研发","",IF(OR($F3="内销",$F3="外销"),规则配置!$K$14,"")) -> 10售后 | AX3: =规则配置!$C4 -> M0 | AY3: =规则配置!$A4 -> 内销 | AZ3: =规则配置!$B4 -> 高 | BA3: =规则配置!$L4 -> Elrad | BB3: =规则配置!$M4 -> 欧洲和北非 | BC3: =规则配置!$N4 -> 塞尔维亚 | BD3: =规则配置!$O4 -> 塞尔维亚南部 | BE3: =规则配置!$P4 -> 60X
C4: M1 | D4: 251018 墨西哥莱尼2号880T | E4: 45950 | F4: 外销 | G4: 批量机 | M4: 中 | N4: Leoni | O4: 北美 | P4: 墨西哥 | Q4: 墨西哥中部 | R4: Durango | T4: 880T | U4: 24 | V4: 1 | W4: 5调试与预验收 | X4: 46036 | Y4: 46275 | Z4: 46290 | AA4: =Z4+6*7 -> 46332 | AB4: =AA4+5*7 -> 46367 | AC4: =AB4+4*7 -> 46395 | AD4: =AB4 -> 46367 | AE4: =AD4+U4*30 -> 47087 | AF4: 2 | AG4: 0 | AH4: =IF($D4="","",IF(NOT(ISNUMBER($AE4)),"待确认",IF(TODAY()<=$AE4,"质保内","质保外"))) -> 质保内 | AI4: =IF($F4="研发",规则配置!$H$4,IF(OR($F4="内销",$F4="外销"),规则配置!$I$4,"")) -> 样机 | AJ4: =IF($F4="研发",规则配置!$H$5,IF(OR($F4="内销",$F4="外销"),规则配置!$I$5,"")) -> 批量机 | AK4: =IF($F4="研发",规则配置!$H$6,IF(OR($F4="内销",$F4="外销"),规则配置!$I$6,"")) -> 备货 | AL4: =IF($F4="研发",规则配置!$H$7,IF(OR($F4="内销",$F4="外销"),"","")) | AM4: =IF($F4="研发",规则配置!$J$4,IF(OR($F4="内销",$F4="外销"),规则配置!$K$4,"")) -> 0准备 | AN4: =IF($F4="研发",规则配置!$J$5,IF(OR($F4="内销",$F4="外销"),规则配置!$K$5,"")) -> 1启动 | AO4: =IF($F4="研发",规则配置!$J$6,IF(OR($F4="内销",$F4="外销"),规则配置!$K$6,"")) -> 2研发 | AP4: =IF($F4="研发",规则配置!$J$7,IF(OR($F4="内销",$F4="外销"),规则配置!$K$7,"")) -> 3采购 | AQ4: =IF($F4="研发",规则配置!$J$8,IF(OR($F4="内销",$F4="外销"),规则配置!$K$8,"")) -> 4组装 | AR4: =IF($F4="研发",规则配置!$J$9,IF(OR($F4="内销",$F4="外销"),规则配置!$K$9,"")) -> 5调试与预验收 | AS4: =IF($F4="研发",规则配置!$J$10,IF(OR($F4="内销",$F4="外销"),规则配置!$K$10,"")) -> 6发货到货 | AT4: =IF($F4="研发",规则配置!$J$11,IF(OR($F4="内销",$F4="外销"),规则配置!$K$11,"")) -> 7现场调试与SAT | AU4: =IF($F4="研发",规则配置!$J$12,IF(OR($F4="内销",$F4="外销"),规则配置!$K$12,"")) -> 8陪产 | AV4: =IF($F4="研发",规则配置!$J$13,IF(OR($F4="内销",$F4="外销"),规则配置!$K$13,"")) -> 9转售后 | AW4: =IF($F4="研发","",IF(OR($F4="内销",$F4="外销"),规则配置!$K$14,"")) -> 10售后 | AX4: =规则配置!$C5 -> M1 | AY4: =规则配置!$A5 -> 外销 | AZ4: =规则配置!$B5 -> 中 | BA4: =规则配置!$L5 -> Versigent | BB4: =规则配置!$M5 -> 北美 | BC4: =规则配置!$N5 -> 葡萄牙 | BD4: =规则配置!$O5 -> 葡萄牙中部 | BE4: =规则配置!$P5 -> 60T
C5: M0 | D5: 250822 Aptiv Guadalupe 880T2台 | E5: 46020 | F5: 外销 | G5: 批量机 | M5: 中 | N5: Versigent | O5: 北美 | P5: 墨西哥 | Q5: 墨西哥东部 | R5: Guadalupe | T5: 880T | U5: 12 | V5: 2 | W5: 5调试与预验收 | X5: 46152 | Y5: 46310 | Z5: 46325 | AA5: =Z5+6*7 -> 46367 | AB5: =AA5+5*7 -> 46402 | AC5: =AB5+4*7 -> 46430 | AD5: =AB5 -> 46402 | AE5: =AD5+U5*30 -> 46762 | AF5: 2 | AG5: 1 | AH5: =IF($D5="","",IF(NOT(ISNUMBER($AE5)),"待确认",IF(TODAY()<=$AE5,"质保内","质保外"))) -> 质保内 | AI5: =IF($F5="研发",规则配置!$H$4,IF(OR($F5="内销",$F5="外销"),规则配置!$I$4,"")) -> 样机 | AJ5: =IF($F5="研发",规则配置!$H$5,IF(OR($F5="内销",$F5="外销"),规则配置!$I$5,"")) -> 批量机 | AK5: =IF($F5="研发",规则配置!$H$6,IF(OR($F5="内销",$F5="外销"),规则配置!$I$6,"")) -> 备货 | AL5: =IF($F5="研发",规则配置!$H$7,IF(OR($F5="内销",$F5="外销"),"","")) | AM5: =IF($F5="研发",规则配置!$J$4,IF(OR($F5="内销",$F5="外销"),规则配置!$K$4,"")) -> 0准备 | AN5: =IF($F5="研发",规则配置!$J$5,IF(OR($F5="内销",$F5="外销"),规则配置!$K$5,"")) -> 1启动 | AO5: =IF($F5="研发",规则配置!$J$6,IF(OR($F5="内销",$F5="外销"),规则配置!$K$6,"")) -> 2研发 | AP5: =IF($F5="研发",规则配置!$J$7,IF(OR($F5="内销",$F5="外销"),规则配置!$K$7,"")) -> 3采购 | AQ5: =IF($F5="研发",规则配置!$J$8,IF(OR($F5="内销",$F5="外销"),规则配置!$K$8,"")) -> 4组装 | AR5: =IF($F5="研发",规则配置!$J$9,IF(OR($F5="内销",$F5="外销"),规则配置!$K$9,"")) -> 5调试与预验收 | AS5: =IF($F5="研发",规则配置!$J$10,IF(OR($F5="内销",$F5="外销"),规则配置!$K$10,"")) -> 6发货到货 | AT5: =IF($F5="研发",规则配置!$J$11,IF(OR($F5="内销",$F5="外销"),规则配置!$K$11,"")) -> 7现场调试与SAT | AU5: =IF($F5="研发",规则配置!$J$12,IF(OR($F5="内销",$F5="外销"),规则配置!$K$12,"")) -> 8陪产 | AV5: =IF($F5="研发",规则配置!$J$13,IF(OR($F5="内销",$F5="外销"),规则配置!$K$13,"")) -> 9转售后 | AW5: =IF($F5="研发","",IF(OR($F5="内销",$F5="外销"),规则配置!$K$14,"")) -> 10售后 | AX5: =规则配置!$C6 -> M2 | AY5: =规则配置!$A6 -> 研发 | AZ5: =规则配置!$B6 -> 低 | BA5: =规则配置!$L6 -> Lear | BB5: =规则配置!$M6 -> 亚洲其他 | BC5: =规则配置!$N6 -> 墨西哥 | BD5: =规则配置!$O6 -> 墨西哥北部 | BE5: =规则配置!$P6 -> 680
C6: M0 | D6: 260330 KroSchu 880ST1台 | E6: 46098 | F6: 外销 | G6: 批量机 | M6: 高 | N6: KroSchu | O6: 亚洲 | P6: 中国 | Q6: 中国区 | R6: 鞍山 | T6: 880ST | U6: 12 | V6: 1 | W6: 5调试与预验收 | X6: 46176 | Y6: 46270 | Z6: 46275 | AA6: =Z6+6*7 -> 46317 | AB6: =AA6+5*7 -> 46352 | AC6: =AB6+4*7 -> 46380 | AD6: =AB6 -> 46352 | AE6: =AD6+U6*30 -> 46712 | AF6: 1 | AG6: 1 | AH6: =IF($D6="","",IF(NOT(ISNUMBER($AE6)),"待确认",IF(TODAY()<=$AE6,"质保内","质保外"))) -> 质保内 | AI6: =IF($F6="研发",规则配置!$H$4,IF(OR($F6="内销",$F6="外销"),规则配置!$I$4,"")) -> 样机 | AJ6: =IF($F6="研发",规则配置!$H$5,IF(OR($F6="内销",$F6="外销"),规则配置!$I$5,"")) -> 批量机 | AK6: =IF($F6="研发",规则配置!$H$6,IF(OR($F6="内销",$F6="外销"),规则配置!$I$6,"")) -> 备货 | AL6: =IF($F6="研发",规则配置!$H$7,IF(OR($F6="内销",$F6="外销"),"","")) | AM6: =IF($F6="研发",规则配置!$J$4,IF(OR($F6="内销",$F6="外销"),规则配置!$K$4,"")) -> 0准备 | AN6: =IF($F6="研发",规则配置!$J$5,IF(OR($F6="内销",$F6="外销"),规则配置!$K$5,"")) -> 1启动 | AO6: =IF($F6="研发",规则配置!$J$6,IF(OR($F6="内销",$F6="外销"),规则配置!$K$6,"")) -> 2研发 | AP6: =IF($F6="研发",规则配置!$J$7,IF(OR($F6="内销",$F6="外销"),规则配置!$K$7,"")) -> 3采购 | AQ6: =IF($F6="研发",规则配置!$J$8,IF(OR($F6="内销",$F6="外销"),规则配置!$K$8,"")) -> 4组装 | AR6: =IF($F6="研发",规则配置!$J$9,IF(OR($F6="内销",$F6="外销"),规则配置!$K$9,"")) -> 5调试与预验收 | AS6: =IF($F6="研发",规则配置!$J$10,IF(OR($F6="内销",$F6="外销"),规则配置!$K$10,"")) -> 6发货到货 | AT6: =IF($F6="研发",规则配置!$J$11,IF(OR($F6="内销",$F6="外销"),规则配置!$K$11,"")) -> 7现场调试与SAT | AU6: =IF($F6="研发",规则配置!$J$12,IF(OR($F6="内销",$F6="外销"),规则配置!$K$12,"")) -> 8陪产 | AV6: =IF($F6="研发",规则配置!$J$13,IF(OR($F6="内销",$F6="外销"),规则配置!$K$13,"")) -> 9转售后 | AW6: =IF($F6="研发","",IF(OR($F6="内销",$F6="外销"),规则配置!$K$14,"")) -> 10售后 | AX6: =规则配置!$C7 -> M3 | BA6: =规则配置!$L7 -> Yazaki | BB6: =规则配置!$M7 -> 中国 | BC6: =规则配置!$N7 -> 摩洛哥 | BD6: =规则配置!$O7 -> 摩洛哥中部 | BE6: =规则配置!$P7 -> 860
C7: M2 | D7: 260401 SEWS Morocco 880T1台 | E7: 46125 | F7: 外销 | G7: 批量机 | M7: 中 | N7: SWS | O7: 欧洲和北非 | P7: 摩洛哥 | Q7: 摩洛哥中部 | R7: Tangier | T7: 880T | U7: 12 | V7: 1 | W7: 4组装 | X7: 46267 | Y7: 46306 | Z7: 46315 | AA7: =Z7+6*7 -> 46357 | AB7: =AA7+5*7 -> 46392 | AC7: =AB7+4*7 -> 46420 | AD7: =AB7 -> 46392 | AE7: =AD7+U7*30 -> 46752 | AF7: 1 | AG7: 1 | AH7: =IF($D7="","",IF(NOT(ISNUMBER($AE7)),"待确认",IF(TODAY()<=$AE7,"质保内","质保外"))) -> 质保内 | AI7: =IF($F7="研发",规则配置!$H$4,IF(OR($F7="内销",$F7="外销"),规则配置!$I$4,"")) -> 样机 | AJ7: =IF($F7="研发",规则配置!$H$5,IF(OR($F7="内销",$F7="外销"),规则配置!$I$5,"")) -> 批量机 | AK7: =IF($F7="研发",规则配置!$H$6,IF(OR($F7="内销",$F7="外销"),规则配置!$I$6,"")) -> 备货 | AL7: =IF($F7="研发",规则配置!$H$7,IF(OR($F7="内销",$F7="外销"),"","")) | AM7: =IF($F7="研发",规则配置!$J$4,IF(OR($F7="内销",$F7="外销"),规则配置!$K$4,"")) -> 0准备 | AN7: =IF($F7="研发",规则配置!$J$5,IF(OR($F7="内销",$F7="外销"),规则配置!$K$5,"")) -> 1启动 | AO7: =IF($F7="研发",规则配置!$J$6,IF(OR($F7="内销",$F7="外销"),规则配置!$K$6,"")) -> 2研发 | AP7: =IF($F7="研发",规则配置!$J$7,IF(OR($F7="内销",$F7="外销"),规则配置!$K$7,"")) -> 3采购 | AQ7: =IF($F7="研发",规则配置!$J$8,IF(OR($F7="内销",$F7="外销"),规则配置!$K$8,"")) -> 4组装 | AR7: =IF($F7="研发",规则配置!$J$9,IF(OR($F7="内销",$F7="外销"),规则配置!$K$9,"")) -> 5调试与预验收 | AS7: =IF($F7="研发",规则配置!$J$10,IF(OR($F7="内销",$F7="外销"),规则配置!$K$10,"")) -> 6发货到货 | AT7: =IF($F7="研发",规则配置!$J$11,IF(OR($F7="内销",$F7="外销"),规则配置!$K$11,"")) -> 7现场调试与SAT | AU7: =IF($F7="研发",规则配置!$J$12,IF(OR($F7="内销",$F7="外销"),规则配置!$K$12,"")) -> 8陪产 | AV7: =IF($F7="研发",规则配置!$J$13,IF(OR($F7="内销",$F7="外销"),规则配置!$K$13,"")) -> 9转售后 | AW7: =IF($F7="研发","",IF(OR($F7="内销",$F7="外销"),规则配置!$K$14,"")) -> 10售后 | BA7: =规则配置!$L8 -> Leoni | BB7: =规则配置!$M8 -> 0 | BC7: =规则配置!$N8 -> 洪都拉斯 | BD7: =规则配置!$O8 -> SPS区域 | BE7: =规则配置!$P8 -> 880
C8: M0 | D8: 260520 SWS 880T验证 | E8: 46162 | F8: 外销 | G8: 批量机 | M8: 高 | N8: SWS | O8: 亚洲 | P8: 中国 | Q8: 中国区 | R8: 深圳 | T8: 880T | U8: 12 | V8: 0 | W8: 4组装 | X8: 46233 | Y8: 46289 | Z8: - | AA8: - | AB8: - | AC8: - | AD8: - | AE8: - | AF8: 1 | AG8: 1 | AH8: =IF($D8="","",IF(NOT(ISNUMBER($AE8)),"待确认",IF(TODAY()<=$AE8,"质保内","质保外"))) -> 待确认 | AI8: =IF($F8="研发",规则配置!$H$4,IF(OR($F8="内销",$F8="外销"),规则配置!$I$4,"")) -> 样机 | AJ8: =IF($F8="研发",规则配置!$H$5,IF(OR($F8="内销",$F8="外销"),规则配置!$I$5,"")) -> 批量机 | AK8: =IF($F8="研发",规则配置!$H$6,IF(OR($F8="内销",$F8="外销"),规则配置!$I$6,"")) -> 备货 | AL8: =IF($F8="研发",规则配置!$H$7,IF(OR($F8="内销",$F8="外销"),"","")) | AM8: =IF($F8="研发",规则配置!$J$4,IF(OR($F8="内销",$F8="外销"),规则配置!$K$4,"")) -> 0准备 | AN8: =IF($F8="研发",规则配置!$J$5,IF(OR($F8="内销",$F8="外销"),规则配置!$K$5,"")) -> 1启动 | AO8: =IF($F8="研发",规则配置!$J$6,IF(OR($F8="内销",$F8="外销"),规则配置!$K$6,"")) -> 2研发 | AP8: =IF($F8="研发",规则配置!$J$7,IF(OR($F8="内销",$F8="外销"),规则配置!$K$7,"")) -> 3采购 | AQ8: =IF($F8="研发",规则配置!$J$8,IF(OR($F8="内销",$F8="外销"),规则配置!$K$8,"")) -> 4组装 | AR8: =IF($F8="研发",规则配置!$J$9,IF(OR($F8="内销",$F8="外销"),规则配置!$K$9,"")) -> 5调试与预验收 | AS8: =IF($F8="研发",规则配置!$J$10,IF(OR($F8="内销",$F8="外销"),规则配置!$K$10,"")) -> 6发货到货 | AT8: =IF($F8="研发",规则配置!$J$11,IF(OR($F8="内销",$F8="外销"),规则配置!$K$11,"")) -> 7现场调试与SAT | AU8: =IF($F8="研发",规则配置!$J$12,IF(OR($F8="内销",$F8="外销"),规则配置!$K$12,"")) -> 8陪产 | AV8: =IF($F8="研发",规则配置!$J$13,IF(OR($F8="内销",$F8="外销"),规则配置!$K$13,"")) -> 9转售后 | AW8: =IF($F8="研发","",IF(OR($F8="内销",$F8="外销"),规则配置!$K$14,"")) -> 10售后 | BA8: =规则配置!$L9 -> KroSchu | BB8: =规则配置!$M9 -> 0 | BC8: =规则配置!$N9 -> 中国 | BD8: =规则配置!$O9 -> 中国区 | BE8: =规则配置!$P9 -> 880T
C9: M1 | D9: 墨西哥莱尼后续复制机*2 预测 | E9: 46256 | F9: 外销 | G9: 批量机 | M9: 中 | N9: Leoni | O9: 北美 | P9: 墨西哥 | Q9: 墨西哥中部 | R9: Durango | T9: 880T | U9: 24 | V9: 2 | W9: 0准备 | X9: 46346 | Y9: =X9+6*7 -> 46388 | Z9: =Y9+14 -> 46402 | AA9: =Z9+6*7 -> 46444 | AB9: =AA9+5*7 -> 46479 | AC9: =AB9+4*7 -> 46507 | AD9: =AB9 -> 46479 | AE9: =AD9+U9*30 -> 47199 | AF9: 2 | AG9: 1 | AH9: =IF($D9="","",IF(NOT(ISNUMBER($AE9)),"待确认",IF(TODAY()<=$AE9,"质保内","质保外"))) -> 质保内 | AI9: =IF($F9="研发",规则配置!$H$4,IF(OR($F9="内销",$F9="外销"),规则配置!$I$4,"")) -> 样机 | AJ9: =IF($F9="研发",规则配置!$H$5,IF(OR($F9="内销",$F9="外销"),规则配置!$I$5,"")) -> 批量机 | AK9: =IF($F9="研发",规则配置!$H$6,IF(OR($F9="内销",$F9="外销"),规则配置!$I$6,"")) -> 备货 | AL9: =IF($F9="研发",规则配置!$H$7,IF(OR($F9="内销",$F9="外销"),"","")) | AM9: =IF($F9="研发",规则配置!$J$4,IF(OR($F9="内销",$F9="外销"),规则配置!$K$4,"")) -> 0准备 | AN9: =IF($F9="研发",规则配置!$J$5,IF(OR($F9="内销",$F9="外销"),规则配置!$K$5,"")) -> 1启动 | AO9: =IF($F9="研发",规则配置!$J$6,IF(OR($F9="内销",$F9="外销"),规则配置!$K$6,"")) -> 2研发 | AP9: =IF($F9="研发",规则配置!$J$7,IF(OR($F9="内销",$F9="外销"),规则配置!$K$7,"")) -> 3采购 | AQ9: =IF($F9="研发",规则配置!$J$8,IF(OR($F9="内销",$F9="外销"),规则配置!$K$8,"")) -> 4组装 | AR9: =IF($F9="研发",规则配置!$J$9,IF(OR($F9="内销",$F9="外销"),规则配置!$K$9,"")) -> 5调试与预验收 | AS9: =IF($F9="研发",规则配置!$J$10,IF(OR($F9="内销",$F9="外销"),规则配置!$K$10,"")) -> 6发货到货 | AT9: =IF($F9="研发",规则配置!$J$11,IF(OR($F9="内销",$F9="外销"),规则配置!$K$11,"")) -> 7现场调试与SAT | AU9: =IF($F9="研发",规则配置!$J$12,IF(OR($F9="内销",$F9="外销"),规则配置!$K$12,"")) -> 8陪产 | AV9: =IF($F9="研发",规则配置!$J$13,IF(OR($F9="内销",$F9="外销"),规则配置!$K$13,"")) -> 9转售后 | AW9: =IF($F9="研发","",IF(OR($F9="内销",$F9="外销"),规则配置!$K$14,"")) -> 10售后 | BA9: =规则配置!$L10 -> KSHG | BB9: =规则配置!$M10 -> 0 | BC9: =规则配置!$N10 -> 罗马尼亚 | BD9: =规则配置!$O10 -> 东欧 | BE9: =规则配置!$P10 -> 880ST
C10: M1 | D10: 墨西哥莱尼后续复制机*4 预测 | E10: 46256 | F10: 外销 | G10: 批量机 | M10: 中 | N10: Leoni | O10: 北美 | P10: 墨西哥 | Q10: 墨西哥中部 | R10: Durango | T10: 880T | U10: 24 | V10: 2 | W10: 0准备 | X10: 46376 | Y10: =X10+6*7 -> 46418 | Z10: =Y10+14 -> 46432 | AA10: =Z10+6*7 -> 46474 | AB10: =AA10+5*7 -> 46509 | AC10: =AB10+4*7 -> 46537 | AD10: =AB10 -> 46509 | AE10: =AD10+U10*30 -> 47229 | AF10: 4 | AG10: 1 | AH10: =IF($D10="","",IF(NOT(ISNUMBER($AE10)),"待确认",IF(TODAY()<=$AE10,"质保内","质保外"))) -> 质保内 | AI10: =IF($F10="研发",规则配置!$H$4,IF(OR($F10="内销",$F10="外销"),规则配置!$I$4,"")) -> 样机 | AJ10: =IF($F10="研发",规则配置!$H$5,IF(OR($F10="内销",$F10="外销"),规则配置!$I$5,"")) -> 批量机 | AK10: =IF($F10="研发",规则配置!$H$6,IF(OR($F10="内销",$F10="外销"),规则配置!$I$6,"")) -> 备货 | AL10: =IF($F10="研发",规则配置!$H$7,IF(OR($F10="内销",$F10="外销"),"","")) | AM10: =IF($F10="研发",规则配置!$J$4,IF(OR($F10="内销",$F10="外销"),规则配置!$K$4,"")) -> 0准备 | AN10: =IF($F10="研发",规则配置!$J$5,IF(OR($F10="内销",$F10="外销"),规则配置!$K$5,"")) -> 1启动 | AO10: =IF($F10="研发",规则配置!$J$6,IF(OR($F10="内销",$F10="外销"),规则配置!$K$6,"")) -> 2研发 | AP10: =IF($F10="研发",规则配置!$J$7,IF(OR($F10="内销",$F10="外销"),规则配置!$K$7,"")) -> 3采购 | AQ10: =IF($F10="研发",规则配置!$J$8,IF(OR($F10="内销",$F10="外销"),规则配置!$K$8,"")) -> 4组装 | AR10: =IF($F10="研发",规则配置!$J$9,IF(OR($F10="内销",$F10="外销"),规则配置!$K$9,"")) -> 5调试与预验收 | AS10: =IF($F10="研发",规则配置!$J$10,IF(OR($F10="内销",$F10="外销"),规则配置!$K$10,"")) -> 6发货到货 | AT10: =IF($F10="研发",规则配置!$J$11,IF(OR($F10="内销",$F10="外销"),规则配置!$K$11,"")) -> 7现场调试与SAT | AU10: =IF($F10="研发",规则配置!$J$12,IF(OR($F10="内销",$F10="外销"),规则配置!$K$12,"")) -> 8陪产 | AV10: =IF($F10="研发",规则配置!$J$13,IF(OR($F10="内销",$F10="外销"),规则配置!$K$13,"")) -> 9转售后 | AW10: =IF($F10="研发","",IF(OR($F10="内销",$F10="外销"),规则配置!$K$14,"")) -> 10售后 | BA10: =规则配置!$L11 -> Flex | BB10: =规则配置!$M11 -> 0 | BC10: =规则配置!$N11 -> 日本 | BD10: =规则配置!$O11 -> 东亚 | BE10: =规则配置!$P11 -> 850
C11: M1 | D11: 墨西哥莱尼后续复制机*4 预测 | E11: 46256 | F11: 外销 | G11: 批量机 | M11: 中 | N11: Leoni | O11: 北美 | P11: 墨西哥 | Q11: 墨西哥中部 | R11: Durango | T11: 880T | U11: 24 | V11: 2 | W11: 0准备 | X11: 46407 | Y11: =X11+6*7 -> 46449 | Z11: =Y11+14 -> 46463 | AA11: =Z11+6*7 -> 46505 | AB11: =AA11+5*7 -> 46540 | AC11: =AB11+4*7 -> 46568 | AD11: =AB11 -> 46540 | AE11: =AD11+U11*30 -> 47260 | AF11: 4 | AG11: 1 | AH11: =IF($D11="","",IF(NOT(ISNUMBER($AE11)),"待确认",IF(TODAY()<=$AE11,"质保内","质保外"))) -> 质保内 | AI11: =IF($F11="研发",规则配置!$H$4,IF(OR($F11="内销",$F11="外销"),规则配置!$I$4,"")) -> 样机 | AJ11: =IF($F11="研发",规则配置!$H$5,IF(OR($F11="内销",$F11="外销"),规则配置!$I$5,"")) -> 批量机 | AK11: =IF($F11="研发",规则配置!$H$6,IF(OR($F11="内销",$F11="外销"),规则配置!$I$6,"")) -> 备货 | AL11: =IF($F11="研发",规则配置!$H$7,IF(OR($F11="内销",$F11="外销"),"","")) | AM11: =IF($F11="研发",规则配置!$J$4,IF(OR($F11="内销",$F11="外销"),规则配置!$K$4,"")) -> 0准备 | AN11: =IF($F11="研发",规则配置!$J$5,IF(OR($F11="内销",$F11="外销"),规则配置!$K$5,"")) -> 1启动 | AO11: =IF($F11="研发",规则配置!$J$6,IF(OR($F11="内销",$F11="外销"),规则配置!$K$6,"")) -> 2研发 | AP11: =IF($F11="研发",规则配置!$J$7,IF(OR($F11="内销",$F11="外销"),规则配置!$K$7,"")) -> 3采购 | AQ11: =IF($F11="研发",规则配置!$J$8,IF(OR($F11="内销",$F11="外销"),规则配置!$K$8,"")) -> 4组装 | AR11: =IF($F11="研发",规则配置!$J$9,IF(OR($F11="内销",$F11="外销"),规则配置!$K$9,"")) -> 5调试与预验收 | AS11: =IF($F11="研发",规则配置!$J$10,IF(OR($F11="内销",$F11="外销"),规则配置!$K$10,"")) -> 6发货到货 | AT11: =IF($F11="研发",规则配置!$J$11,IF(OR($F11="内销",$F11="外销"),规则配置!$K$11,"")) -> 7现场调试与SAT | AU11: =IF($F11="研发",规则配置!$J$12,IF(OR($F11="内销",$F11="外销"),规则配置!$K$12,"")) -> 8陪产 | AV11: =IF($F11="研发",规则配置!$J$13,IF(OR($F11="内销",$F11="外销"),规则配置!$K$13,"")) -> 9转售后 | AW11: =IF($F11="研发","",IF(OR($F11="内销",$F11="外销"),规则配置!$K$14,"")) -> 10售后 | BA11: =规则配置!$L12 -> SWS | BB11: =规则配置!$M12 -> 0 | BC11: =规则配置!$N12 -> 波兰 | BD11: =规则配置!$O12 -> 塞尔维亚北部 | BE11: =规则配置!$P12 -> 其他
C12: M1 | D12: 墨西哥莱尼后续复制机*3 预测 | E12: 46256 | F12: 外销 | G12: 批量机 | M12: 中 | N12: Leoni | O12: 北美 | P12: 墨西哥 | Q12: 墨西哥中部 | R12: Durango | T12: 880T | U12: 24 | V12: 2 | W12: 0准备 | X12: 46438 | Y12: =X12+6*7 -> 46480 | Z12: =Y12+14 -> 46494 | AA12: =Z12+6*7 -> 46536 | AB12: =AA12+5*7 -> 46571 | AC12: =AB12+4*7 -> 46599 | AD12: =AB12 -> 46571 | AE12: =AD12+U12*30 -> 47291 | AF12: 3 | AG12: 1 | AH12: =IF($D12="","",IF(NOT(ISNUMBER($AE12)),"待确认",IF(TODAY()<=$AE12,"质保内","质保外"))) -> 质保内 | AI12: =IF($F12="研发",规则配置!$H$4,IF(OR($F12="内销",$F12="外销"),规则配置!$I$4,"")) -> 样机 | AJ12: =IF($F12="研发",规则配置!$H$5,IF(OR($F12="内销",$F12="外销"),规则配置!$I$5,"")) -> 批量机 | AK12: =IF($F12="研发",规则配置!$H$6,IF(OR($F12="内销",$F12="外销"),规则配置!$I$6,"")) -> 备货 | AL12: =IF($F12="研发",规则配置!$H$7,IF(OR($F12="内销",$F12="外销"),"","")) | AM12: =IF($F12="研发",规则配置!$J$4,IF(OR($F12="内销",$F12="外销"),规则配置!$K$4,"")) -> 0准备 | AN12: =IF($F12="研发",规则配置!$J$5,IF(OR($F12="内销",$F12="外销"),规则配置!$K$5,"")) -> 1启动 | AO12: =IF($F12="研发",规则配置!$J$6,IF(OR($F12="内销",$F12="外销"),规则配置!$K$6,"")) -> 2研发 | AP12: =IF($F12="研发",规则配置!$J$7,IF(OR($F12="内销",$F12="外销"),规则配置!$K$7,"")) -> 3采购 | AQ12: =IF($F12="研发",规则配置!$J$8,IF(OR($F12="内销",$F12="外销"),规则配置!$K$8,"")) -> 4组装 | AR12: =IF($F12="研发",规则配置!$J$9,IF(OR($F12="内销",$F12="外销"),规则配置!$K$9,"")) -> 5调试与预验收 | AS12: =IF($F12="研发",规则配置!$J$10,IF(OR($F12="内销",$F12="外销"),规则配置!$K$10,"")) -> 6发货到货 | AT12: =IF($F12="研发",规则配置!$J$11,IF(OR($F12="内销",$F12="外销"),规则配置!$K$11,"")) -> 7现场调试与SAT | AU12: =IF($F12="研发",规则配置!$J$12,IF(OR($F12="内销",$F12="外销"),规则配置!$K$12,"")) -> 8陪产 | AV12: =IF($F12="研发",规则配置!$J$13,IF(OR($F12="内销",$F12="外销"),规则配置!$K$13,"")) -> 9转售后 | AW12: =IF($F12="研发","",IF(OR($F12="内销",$F12="外销"),规则配置!$K$14,"")) -> 10售后 | BA12: =规则配置!$L13 -> Komax | BB12: =规则配置!$M13 -> 0 | BC12: =规则配置!$N13 -> 印度 | BD12: =规则配置!$O13 -> 墨西哥中部 | BE12: =规则配置!$P13 -> 0
C13: M1 | D13: 250822 Aptiv Guadalupe 880ST 预测 | E13: 46256 | F13: 外销 | G13: 批量机 | M13: 中 | N13: Versigent | O13: 北美 | P13: 墨西哥 | Q13: 墨西哥东部 | R13: Guadalupe | T13: 880ST | U13: 12 | V13: 1 | W13: 0准备 | X13: 46366 | Y13: =X13+6*7 -> 46408 | Z13: =Y13+14 -> 46422 | AA13: =Z13+6*7 -> 46464 | AB13: =AA13+5*7 -> 46499 | AC13: =AB13+4*7 -> 46527 | AD13: =AB13 -> 46499 | AE13: =AD13+U13*30 -> 46859 | AF13: 2 | AG13: 1 | AH13: =IF($D13="","",IF(NOT(ISNUMBER($AE13)),"待确认",IF(TODAY()<=$AE13,"质保内","质保外"))) -> 质保内 | AI13: =IF($F13="研发",规则配置!$H$4,IF(OR($F13="内销",$F13="外销"),规则配置!$I$4,"")) -> 样机 | AJ13: =IF($F13="研发",规则配置!$H$5,IF(OR($F13="内销",$F13="外销"),规则配置!$I$5,"")) -> 批量机 | AK13: =IF($F13="研发",规则配置!$H$6,IF(OR($F13="内销",$F13="外销"),规则配置!$I$6,"")) -> 备货 | AL13: =IF($F13="研发",规则配置!$H$7,IF(OR($F13="内销",$F13="外销"),"","")) | AM13: =IF($F13="研发",规则配置!$J$4,IF(OR($F13="内销",$F13="外销"),规则配置!$K$4,"")) -> 0准备 | AN13: =IF($F13="研发",规则配置!$J$5,IF(OR($F13="内销",$F13="外销"),规则配置!$K$5,"")) -> 1启动 | AO13: =IF($F13="研发",规则配置!$J$6,IF(OR($F13="内销",$F13="外销"),规则配置!$K$6,"")) -> 2研发 | AP13: =IF($F13="研发",规则配置!$J$7,IF(OR($F13="内销",$F13="外销"),规则配置!$K$7,"")) -> 3采购 | AQ13: =IF($F13="研发",规则配置!$J$8,IF(OR($F13="内销",$F13="外销"),规则配置!$K$8,"")) -> 4组装 | AR13: =IF($F13="研发",规则配置!$J$9,IF(OR($F13="内销",$F13="外销"),规则配置!$K$9,"")) -> 5调试与预验收 | AS13: =IF($F13="研发",规则配置!$J$10,IF(OR($F13="内销",$F13="外销"),规则配置!$K$10,"")) -> 6发货到货 | AT13: =IF($F13="研发",规则配置!$J$11,IF(OR($F13="内销",$F13="外销"),规则配置!$K$11,"")) -> 7现场调试与SAT | AU13: =IF($F13="研发",规则配置!$J$12,IF(OR($F13="内销",$F13="外销"),规则配置!$K$12,"")) -> 8陪产 | AV13: =IF($F13="研发",规则配置!$J$13,IF(OR($F13="内销",$F13="外销"),规则配置!$K$13,"")) -> 9转售后 | AW13: =IF($F13="研发","",IF(OR($F13="内销",$F13="外销"),规则配置!$K$14,"")) -> 10售后 | BA13: =规则配置!$L14 -> KSHG | BB13: =规则配置!$M14 -> 0 | BC13: =规则配置!$N14 -> 0 | BD13: =规则配置!$O14 -> 墨西哥东部 | BE13: =规则配置!$P14 -> 0
C14: M1 | D14: 北美SWS 880T 预测 | E14: 46256 | F14: 外销 | G14: 批量机 | M14: 中 | N14: SWS | O14: 北美 | P14: 墨西哥 | Q14: 墨西哥北部 | R14: Juarez | T14: 880T | U14: 12 | V14: 1 | W14: 0准备 | X14: 46325 | Y14: =X14+6*7 -> 46367 | Z14: =Y14+14 -> 46381 | AA14: =Z14+6*7 -> 46423 | AB14: =AA14+5*7 -> 46458 | AC14: =AB14+4*7 -> 46486 | AD14: =AB14 -> 46458 | AE14: =AD14+U14*30 -> 46818 | AF14: 1 | AG14: 1 | AH14: =IF($D14="","",IF(NOT(ISNUMBER($AE14)),"待确认",IF(TODAY()<=$AE14,"质保内","质保外"))) -> 质保内 | AI14: =IF($F14="研发",规则配置!$H$4,IF(OR($F14="内销",$F14="外销"),规则配置!$I$4,"")) -> 样机 | AJ14: =IF($F14="研发",规则配置!$H$5,IF(OR($F14="内销",$F14="外销"),规则配置!$I$5,"")) -> 批量机 | AK14: =IF($F14="研发",规则配置!$H$6,IF(OR($F14="内销",$F14="外销"),规则配置!$I$6,"")) -> 备货 | AL14: =IF($F14="研发",规则配置!$H$7,IF(OR($F14="内销",$F14="外销"),"","")) | AM14: =IF($F14="研发",规则配置!$J$4,IF(OR($F14="内销",$F14="外销"),规则配置!$K$4,"")) -> 0准备 | AN14: =IF($F14="研发",规则配置!$J$5,IF(OR($F14="内销",$F14="外销"),规则配置!$K$5,"")) -> 1启动 | AO14: =IF($F14="研发",规则配置!$J$6,IF(OR($F14="内销",$F14="外销"),规则配置!$K$6,"")) -> 2研发 | AP14: =IF($F14="研发",规则配置!$J$7,IF(OR($F14="内销",$F14="外销"),规则配置!$K$7,"")) -> 3采购 | AQ14: =IF($F14="研发",规则配置!$J$8,IF(OR($F14="内销",$F14="外销"),规则配置!$K$8,"")) -> 4组装 | AR14: =IF($F14="研发",规则配置!$J$9,IF(OR($F14="内销",$F14="外销"),规则配置!$K$9,"")) -> 5调试与预验收 | AS14: =IF($F14="研发",规则配置!$J$10,IF(OR($F14="内销",$F14="外销"),规则配置!$K$10,"")) -> 6发货到货 | AT14: =IF($F14="研发",规则配置!$J$11,IF(OR($F14="内销",$F14="外销"),规则配置!$K$11,"")) -> 7现场调试与SAT | AU14: =IF($F14="研发",规则配置!$J$12,IF(OR($F14="内销",$F14="外销"),规则配置!$K$12,"")) -> 8陪产 | AV14: =IF($F14="研发",规则配置!$J$13,IF(OR($F14="内销",$F14="外销"),规则配置!$K$13,"")) -> 9转售后 | AW14: =IF($F14="研发","",IF(OR($F14="内销",$F14="外销"),规则配置!$K$14,"")) -> 10售后 | BA14: =规则配置!$L15 -> JT | BB14: =规则配置!$M15 -> 0 | BC14: =规则配置!$N15 -> 0 | BD14: =规则配置!$O15 -> 0 | BE14: =规则配置!$P15 -> 0
C15: M1 | D15: KroSchu 880ST1台 预测 | E15: 46256 | F15: 外销 | G15: 批量机 | M15: 中 | N15: KroSchu | O15: 欧洲和北非 | T15: 880ST | U15: 12 | V15: 1 | W15: 0准备 | X15: 46329 | Y15: =X15+6*7 -> 46371 | Z15: =Y15+14 -> 46385 | AA15: =Z15+6*7 -> 46427 | AB15: =AA15+5*7 -> 46462 | AC15: =AB15+4*7 -> 46490 | AD15: =AB15 -> 46462 | AE15: =AD15+U15*30 -> 46822 | AF15: 1 | AG15: 1 | AH15: =IF($D15="","",IF(NOT(ISNUMBER($AE15)),"待确认",IF(TODAY()<=$AE15,"质保内","质保外"))) -> 质保内 | AI15: =IF($F15="研发",规则配置!$H$4,IF(OR($F15="内销",$F15="外销"),规则配置!$I$4,"")) -> 样机 | AJ15: =IF($F15="研发",规则配置!$H$5,IF(OR($F15="内销",$F15="外销"),规则配置!$I$5,"")) -> 批量机 | AK15: =IF($F15="研发",规则配置!$H$6,IF(OR($F15="内销",$F15="外销"),规则配置!$I$6,"")) -> 备货 | AL15: =IF($F15="研发",规则配置!$H$7,IF(OR($F15="内销",$F15="外销"),"","")) | AM15: =IF($F15="研发",规则配置!$J$4,IF(OR($F15="内销",$F15="外销"),规则配置!$K$4,"")) -> 0准备 | AN15: =IF($F15="研发",规则配置!$J$5,IF(OR($F15="内销",$F15="外销"),规则配置!$K$5,"")) -> 1启动 | AO15: =IF($F15="研发",规则配置!$J$6,IF(OR($F15="内销",$F15="外销"),规则配置!$K$6,"")) -> 2研发 | AP15: =IF($F15="研发",规则配置!$J$7,IF(OR($F15="内销",$F15="外销"),规则配置!$K$7,"")) -> 3采购 | AQ15: =IF($F15="研发",规则配置!$J$8,IF(OR($F15="内销",$F15="外销"),规则配置!$K$8,"")) -> 4组装 | AR15: =IF($F15="研发",规则配置!$J$9,IF(OR($F15="内销",$F15="外销"),规则配置!$K$9,"")) -> 5调试与预验收 | AS15: =IF($F15="研发",规则配置!$J$10,IF(OR($F15="内销",$F15="外销"),规则配置!$K$10,"")) -> 6发货到货 | AT15: =IF($F15="研发",规则配置!$J$11,IF(OR($F15="内销",$F15="外销"),规则配置!$K$11,"")) -> 7现场调试与SAT | AU15: =IF($F15="研发",规则配置!$J$12,IF(OR($F15="内销",$F15="外销"),规则配置!$K$12,"")) -> 8陪产 | AV15: =IF($F15="研发",规则配置!$J$13,IF(OR($F15="内销",$F15="外销"),规则配置!$K$13,"")) -> 9转售后 | AW15: =IF($F15="研发","",IF(OR($F15="内销",$F15="外销"),规则配置!$K$14,"")) -> 10售后 | BA15: =规则配置!$L16 -> MD | BB15: =规则配置!$M16 -> 0 | BC15: =规则配置!$N16 -> 0 | BD15: =规则配置!$O16 -> 0 | BE15: =规则配置!$P16 -> 0
C16: M0 | D16: 沪光880Z1台 | E16: 46259 | F16: 内销 | G16: 批量机 | M16: 中 | N16: KSHG | O16: 亚洲 | P16: 中国 | Q16: 中国区 | R16: 天津 | T16: 880Z | U16: 12 | V16: 1 | W16: 7现场调试与SAT | X16: 46181 | Y16: 46246 | Z16: 46251 | AA16: 46253 | AB16: 46278 | AF16: 1 | AG16: 1 | AH16: =IF($D16="","",IF(NOT(ISNUMBER($AE16)),"待确认",IF(TODAY()<=$AE16,"质保内","质保外"))) -> 待确认 | AI16: =IF($F16="研发",规则配置!$H$4,IF(OR($F16="内销",$F16="外销"),规则配置!$I$4,"")) -> 样机 | AJ16: =IF($F16="研发",规则配置!$H$5,IF(OR($F16="内销",$F16="外销"),规则配置!$I$5,"")) -> 批量机 | AK16: =IF($F16="研发",规则配置!$H$6,IF(OR($F16="内销",$F16="外销"),规则配置!$I$6,"")) -> 备货 | AL16: =IF($F16="研发",规则配置!$H$7,IF(OR($F16="内销",$F16="外销"),"","")) | AM16: =IF($F16="研发",规则配置!$J$4,IF(OR($F16="内销",$F16="外销"),规则配置!$K$4,"")) -> 0准备 | AN16: =IF($F16="研发",规则配置!$J$5,IF(OR($F16="内销",$F16="外销"),规则配置!$K$5,"")) -> 1启动 | AO16: =IF($F16="研发",规则配置!$J$6,IF(OR($F16="内销",$F16="外销"),规则配置!$K$6,"")) -> 2研发 | AP16: =IF($F16="研发",规则配置!$J$7,IF(OR($F16="内销",$F16="外销"),规则配置!$K$7,"")) -> 3采购 | AQ16: =IF($F16="研发",规则配置!$J$8,IF(OR($F16="内销",$F16="外销"),规则配置!$K$8,"")) -> 4组装 | AR16: =IF($F16="研发",规则配置!$J$9,IF(OR($F16="内销",$F16="外销"),规则配置!$K$9,"")) -> 5调试与预验收 | AS16: =IF($F16="研发",规则配置!$J$10,IF(OR($F16="内销",$F16="外销"),规则配置!$K$10,"")) -> 6发货到货 | AT16: =IF($F16="研发",规则配置!$J$11,IF(OR($F16="内销",$F16="外销"),规则配置!$K$11,"")) -> 7现场调试与SAT | AU16: =IF($F16="研发",规则配置!$J$12,IF(OR($F16="内销",$F16="外销"),规则配置!$K$12,"")) -> 8陪产 | AV16: =IF($F16="研发",规则配置!$J$13,IF(OR($F16="内销",$F16="外销"),规则配置!$K$13,"")) -> 9转售后 | AW16: =IF($F16="研发","",IF(OR($F16="内销",$F16="外销"),规则配置!$K$14,"")) -> 10售后 | BA16: =规则配置!$L17 -> 0 | BB16: =规则配置!$M17 -> 0 | BC16: =规则配置!$N17 -> 0 | BD16: =规则配置!$O17 -> 0 | BE16: =规则配置!$P17 -> 0
C17: M0 | D17: 沪光880Z3台 预测 | E17: 46259 | F17: 内销 | G17: 批量机 | M17: 中 | N17: KSHG | O17: 亚洲 | P17: 中国 | Q17: 中国区 | R17: 天津 | T17: 880Z | U17: 12 | V17: 3 | W17: 0准备 | X17: 46341 | Y17: =X17+6*7 -> 46383 | Z17: =Y17+7 -> 46390 | AA17: =Z17+3 -> 46393 | AB17: =AA17+5*7 -> 46428 | AC17: =AB17+4*7 -> 46456 | AD17: =AB17 -> 46428 | AE17: =AD17+U17*30 -> 46788 | AF17: 1 | AG17: 1 | AH17: =IF($D17="","",IF(NOT(ISNUMBER($AE17)),"待确认",IF(TODAY()<=$AE17,"质保内","质保外"))) -> 质保内 | AI17: =IF($F17="研发",规则配置!$H$4,IF(OR($F17="内销",$F17="外销"),规则配置!$I$4,"")) -> 样机 | AJ17: =IF($F17="研发",规则配置!$H$5,IF(OR($F17="内销",$F17="外销"),规则配置!$I$5,"")) -> 批量机 | AK17: =IF($F17="研发",规则配置!$H$6,IF(OR($F17="内销",$F17="外销"),规则配置!$I$6,"")) -> 备货 | AL17: =IF($F17="研发",规则配置!$H$7,IF(OR($F17="内销",$F17="外销"),"","")) | AM17: =IF($F17="研发",规则配置!$J$4,IF(OR($F17="内销",$F17="外销"),规则配置!$K$4,"")) -> 0准备 | AN17: =IF($F17="研发",规则配置!$J$5,IF(OR($F17="内销",$F17="外销"),规则配置!$K$5,"")) -> 1启动 | AO17: =IF($F17="研发",规则配置!$J$6,IF(OR($F17="内销",$F17="外销"),规则配置!$K$6,"")) -> 2研发 | AP17: =IF($F17="研发",规则配置!$J$7,IF(OR($F17="内销",$F17="外销"),规则配置!$K$7,"")) -> 3采购 | AQ17: =IF($F17="研发",规则配置!$J$8,IF(OR($F17="内销",$F17="外销"),规则配置!$K$8,"")) -> 4组装 | AR17: =IF($F17="研发",规则配置!$J$9,IF(OR($F17="内销",$F17="外销"),规则配置!$K$9,"")) -> 5调试与预验收 | AS17: =IF($F17="研发",规则配置!$J$10,IF(OR($F17="内销",$F17="外销"),规则配置!$K$10,"")) -> 6发货到货 | AT17: =IF($F17="研发",规则配置!$J$11,IF(OR($F17="内销",$F17="外销"),规则配置!$K$11,"")) -> 7现场调试与SAT | AU17: =IF($F17="研发",规则配置!$J$12,IF(OR($F17="内销",$F17="外销"),规则配置!$K$12,"")) -> 8陪产 | AV17: =IF($F17="研发",规则配置!$J$13,IF(OR($F17="内销",$F17="外销"),规则配置!$K$13,"")) -> 9转售后 | AW17: =IF($F17="研发","",IF(OR($F17="内销",$F17="外销"),规则配置!$K$14,"")) -> 10售后 | BA17: =规则配置!$L18 -> 0 | BB17: =规则配置!$M18 -> 0 | BC17: =规则配置!$N18 -> 0 | BD17: =规则配置!$O18 -> 0 | BE17: =规则配置!$P18 -> 0
C18: M1 | D18: 金亭880z一台 | E18: 46259 | F18: 内销 | G18: 批量机 | M18: 中 | N18: JT | O18: 亚洲 | P18: 中国 | Q18: 中国区 | R18: 苏州 | T18: 880Z | U18: 12 | V18: 1 | W18: 7现场调试与SAT | X18: 46082 | Y18: 46142 | Z18: 46148 | AA18: 46150 | AB18: 46203 | AH18: =IF($D18="","",IF(NOT(ISNUMBER($AE18)),"待确认",IF(TODAY()<=$AE18,"质保内","质保外"))) -> 待确认 | AI18: =IF($F18="研发",规则配置!$H$4,IF(OR($F18="内销",$F18="外销"),规则配置!$I$4,"")) -> 样机 | AJ18: =IF($F18="研发",规则配置!$H$5,IF(OR($F18="内销",$F18="外销"),规则配置!$I$5,"")) -> 批量机 | AK18: =IF($F18="研发",规则配置!$H$6,IF(OR($F18="内销",$F18="外销"),规则配置!$I$6,"")) -> 备货 | AL18: =IF($F18="研发",规则配置!$H$7,IF(OR($F18="内销",$F18="外销"),"","")) | AM18: =IF($F18="研发",规则配置!$J$4,IF(OR($F18="内销",$F18="外销"),规则配置!$K$4,"")) -> 0准备 | AN18: =IF($F18="研发",规则配置!$J$5,IF(OR($F18="内销",$F18="外销"),规则配置!$K$5,"")) -> 1启动 | AO18: =IF($F18="研发",规则配置!$J$6,IF(OR($F18="内销",$F18="外销"),规则配置!$K$6,"")) -> 2研发 | AP18: =IF($F18="研发",规则配置!$J$7,IF(OR($F18="内销",$F18="外销"),规则配置!$K$7,"")) -> 3采购 | AQ18: =IF($F18="研发",规则配置!$J$8,IF(OR($F18="内销",$F18="外销"),规则配置!$K$8,"")) -> 4组装 | AR18: =IF($F18="研发",规则配置!$J$9,IF(OR($F18="内销",$F18="外销"),规则配置!$K$9,"")) -> 5调试与预验收 | AS18: =IF($F18="研发",规则配置!$J$10,IF(OR($F18="内销",$F18="外销"),规则配置!$K$10,"")) -> 6发货到货 | AT18: =IF($F18="研发",规则配置!$J$11,IF(OR($F18="内销",$F18="外销"),规则配置!$K$11,"")) -> 7现场调试与SAT | AU18: =IF($F18="研发",规则配置!$J$12,IF(OR($F18="内销",$F18="外销"),规则配置!$K$12,"")) -> 8陪产 | AV18: =IF($F18="研发",规则配置!$J$13,IF(OR($F18="内销",$F18="外销"),规则配置!$K$13,"")) -> 9转售后 | AW18: =IF($F18="研发","",IF(OR($F18="内销",$F18="外销"),规则配置!$K$14,"")) -> 10售后 | BA18: =规则配置!$L19 -> 0 | BB18: =规则配置!$M19 -> 0 | BC18: =规则配置!$N19 -> 0 | BD18: =规则配置!$O19 -> 0 | BE18: =规则配置!$P19 -> 0
C19: M0 | D19: 铁岭莱尼 2台双旋转机头 预测 | E19: 46259 | F19: 内销 | G19: 批量机 | M19: 中 | N19: Leoni | O19: 亚洲 | P19: 中国 | Q19: 中国区 | R19: 铁岭 | T19: 880Z | U19: 12 | V19: 2 | W19: 0准备 | X19: 46341 | Y19: =X19+6*7 -> 46383 | Z19: =Y19+7 -> 46390 | AA19: =Z19+3 -> 46393 | AB19: =AA19+5*7 -> 46428 | AC19: =AB19+4*7 -> 46456 | AD19: =AB19 -> 46428 | AE19: =AD19+U19*30 -> 46788 | AF19: 1 | AG19: 1 | AH19: =IF($D19="","",IF(NOT(ISNUMBER($AE19)),"待确认",IF(TODAY()<=$AE19,"质保内","质保外"))) -> 质保内 | AI19: =IF($F19="研发",规则配置!$H$4,IF(OR($F19="内销",$F19="外销"),规则配置!$I$4,"")) -> 样机 | AJ19: =IF($F19="研发",规则配置!$H$5,IF(OR($F19="内销",$F19="外销"),规则配置!$I$5,"")) -> 批量机 | AK19: =IF($F19="研发",规则配置!$H$6,IF(OR($F19="内销",$F19="外销"),规则配置!$I$6,"")) -> 备货 | AL19: =IF($F19="研发",规则配置!$H$7,IF(OR($F19="内销",$F19="外销"),"","")) | AM19: =IF($F19="研发",规则配置!$J$4,IF(OR($F19="内销",$F19="外销"),规则配置!$K$4,"")) -> 0准备 | AN19: =IF($F19="研发",规则配置!$J$5,IF(OR($F19="内销",$F19="外销"),规则配置!$K$5,"")) -> 1启动 | AO19: =IF($F19="研发",规则配置!$J$6,IF(OR($F19="内销",$F19="外销"),规则配置!$K$6,"")) -> 2研发 | AP19: =IF($F19="研发",规则配置!$J$7,IF(OR($F19="内销",$F19="外销"),规则配置!$K$7,"")) -> 3采购 | AQ19: =IF($F19="研发",规则配置!$J$8,IF(OR($F19="内销",$F19="外销"),规则配置!$K$8,"")) -> 4组装 | AR19: =IF($F19="研发",规则配置!$J$9,IF(OR($F19="内销",$F19="外销"),规则配置!$K$9,"")) -> 5调试与预验收 | AS19: =IF($F19="研发",规则配置!$J$10,IF(OR($F19="内销",$F19="外销"),规则配置!$K$10,"")) -> 6发货到货 | AT19: =IF($F19="研发",规则配置!$J$11,IF(OR($F19="内销",$F19="外销"),规则配置!$K$11,"")) -> 7现场调试与SAT | AU19: =IF($F19="研发",规则配置!$J$12,IF(OR($F19="内销",$F19="外销"),规则配置!$K$12,"")) -> 8陪产 | AV19: =IF($F19="研发",规则配置!$J$13,IF(OR($F19="内销",$F19="外销"),规则配置!$K$13,"")) -> 9转售后 | AW19: =IF($F19="研发","",IF(OR($F19="内销",$F19="外销"),规则配置!$K$14,"")) -> 10售后 | BA19: =规则配置!$L20 -> 0 | BB19: =规则配置!$M20 -> 0 | BC19: =规则配置!$N20 -> 0 | BD19: =规则配置!$O20 -> 0 | BE19: =规则配置!$P20 -> 0
C20: M0 | D20: 保定曼德 预测 | E20: 46259 | F20: 内销 | G20: 批量机 | M20: 中 | N20: MD | O20: 亚洲 | P20: 中国 | Q20: 中国区 | R20: 保定 | T20: 880Z | U20: 12 | V20: 1 | W20: 0准备 | X20: 46341 | Y20: =X20+6*7 -> 46383 | Z20: =Y20+7 -> 46390 | AA20: =Z20+3 -> 46393 | AB20: =AA20+5*7 -> 46428 | AC20: =AB20+4*7 -> 46456 | AD20: =AB20 -> 46428 | AE20: =AD20+U20*30 -> 46788 | AF20: 1 | AG20: 1 | AH20: =IF($D20="","",IF(NOT(ISNUMBER($AE20)),"待确认",IF(TODAY()<=$AE20,"质保内","质保外"))) -> 质保内 | AI20: =IF($F20="研发",规则配置!$H$4,IF(OR($F20="内销",$F20="外销"),规则配置!$I$4,"")) -> 样机 | AJ20: =IF($F20="研发",规则配置!$H$5,IF(OR($F20="内销",$F20="外销"),规则配置!$I$5,"")) -> 批量机 | AK20: =IF($F20="研发",规则配置!$H$6,IF(OR($F20="内销",$F20="外销"),规则配置!$I$6,"")) -> 备货 | AL20: =IF($F20="研发",规则配置!$H$7,IF(OR($F20="内销",$F20="外销"),"","")) | AM20: =IF($F20="研发",规则配置!$J$4,IF(OR($F20="内销",$F20="外销"),规则配置!$K$4,"")) -> 0准备 | AN20: =IF($F20="研发",规则配置!$J$5,IF(OR($F20="内销",$F20="外销"),规则配置!$K$5,"")) -> 1启动 | AO20: =IF($F20="研发",规则配置!$J$6,IF(OR($F20="内销",$F20="外销"),规则配置!$K$6,"")) -> 2研发 | AP20: =IF($F20="研发",规则配置!$J$7,IF(OR($F20="内销",$F20="外销"),规则配置!$K$7,"")) -> 3采购 | AQ20: =IF($F20="研发",规则配置!$J$8,IF(OR($F20="内销",$F20="外销"),规则配置!$K$8,"")) -> 4组装 | AR20: =IF($F20="研发",规则配置!$J$9,IF(OR($F20="内销",$F20="外销"),规则配置!$K$9,"")) -> 5调试与预验收 | AS20: =IF($F20="研发",规则配置!$J$10,IF(OR($F20="内销",$F20="外销"),规则配置!$K$10,"")) -> 6发货到货 | AT20: =IF($F20="研发",规则配置!$J$11,IF(OR($F20="内销",$F20="外销"),规则配置!$K$11,"")) -> 7现场调试与SAT | AU20: =IF($F20="研发",规则配置!$J$12,IF(OR($F20="内销",$F20="外销"),规则配置!$K$12,"")) -> 8陪产 | AV20: =IF($F20="研发",规则配置!$J$13,IF(OR($F20="内销",$F20="外销"),规则配置!$K$13,"")) -> 9转售后 | AW20: =IF($F20="研发","",IF(OR($F20="内销",$F20="外销"),规则配置!$K$14,"")) -> 10售后 | BA20: =规则配置!$L21 -> 0 | BB20: =规则配置!$M21 -> 0 | BC20: =规则配置!$N21 -> 0 | BD20: =规则配置!$O21 -> 0 | BE20: =规则配置!$P21 -> 0
AH21: =IF($D21="","",IF(NOT(ISNUMBER($AE21)),"待确认",IF(TODAY()<=$AE21,"质保内","质保外"))) | AI21: =IF($F21="研发",规则配置!$H$4,IF(OR($F21="内销",$F21="外销"),规则配置!$I$4,"")) | AJ21: =IF($F21="研发",规则配置!$H$5,IF(OR($F21="内销",$F21="外销"),规则配置!$I$5,"")) | AK21: =IF($F21="研发",规则配置!$H$6,IF(OR($F21="内销",$F21="外销"),规则配置!$I$6,"")) | AL21: =IF($F21="研发",规则配置!$H$7,IF(OR($F21="内销",$F21="外销"),"","")) | AM21: =IF($F21="研发",规则配置!$J$4,IF(OR($F21="内销",$F21="外销"),规则配置!$K$4,"")) | AN21: =IF($F21="研发",规则配置!$J$5,IF(OR($F21="内销",$F21="外销"),规则配置!$K$5,"")) | AO21: =IF($F21="研发",规则配置!$J$6,IF(OR($F21="内销",$F21="外销"),规则配置!$K$6,"")) | AP21: =IF($F21="研发",规则配置!$J$7,IF(OR($F21="内销",$F21="外销"),规则配置!$K$7,"")) | AQ21: =IF($F21="研发",规则配置!$J$8,IF(OR($F21="内销",$F21="外销"),规则配置!$K$8,"")) | AR21: =IF($F21="研发",规则配置!$J$9,IF(OR($F21="内销",$F21="外销"),规则配置!$K$9,"")) | AS21: =IF($F21="研发",规则配置!$J$10,IF(OR($F21="内销",$F21="外销"),规则配置!$K$10,"")) | AT21: =IF($F21="研发",规则配置!$J$11,IF(OR($F21="内销",$F21="外销"),规则配置!$K$11,"")) | AU21: =IF($F21="研发",规则配置!$J$12,IF(OR($F21="内销",$F21="外销"),规则配置!$K$12,"")) | AV21: =IF($F21="研发",规则配置!$J$13,IF(OR($F21="内销",$F21="外销"),规则配置!$K$13,"")) | AW21: =IF($F21="研发","",IF(OR($F21="内销",$F21="外销"),规则配置!$K$14,"")) | BA21: =规则配置!$L22 -> 0 | BB21: =规则配置!$M22 -> 0 | BC21: =规则配置!$N22 -> 0 | BD21: =规则配置!$O22 -> 0 | BE21: =规则配置!$P22 -> 0
AH22: =IF($D22="","",IF(NOT(ISNUMBER($AE22)),"待确认",IF(TODAY()<=$AE22,"质保内","质保外"))) | AI22: =IF($F22="研发",规则配置!$H$4,IF(OR($F22="内销",$F22="外销"),规则配置!$I$4,"")) | AJ22: =IF($F22="研发",规则配置!$H$5,IF(OR($F22="内销",$F22="外销"),规则配置!$I$5,"")) | AK22: =IF($F22="研发",规则配置!$H$6,IF(OR($F22="内销",$F22="外销"),规则配置!$I$6,"")) | AL22: =IF($F22="研发",规则配置!$H$7,IF(OR($F22="内销",$F22="外销"),"","")) | AM22: =IF($F22="研发",规则配置!$J$4,IF(OR($F22="内销",$F22="外销"),规则配置!$K$4,"")) | AN22: =IF($F22="研发",规则配置!$J$5,IF(OR($F22="内销",$F22="外销"),规则配置!$K$5,"")) | AO22: =IF($F22="研发",规则配置!$J$6,IF(OR($F22="内销",$F22="外销"),规则配置!$K$6,"")) | AP22: =IF($F22="研发",规则配置!$J$7,IF(OR($F22="内销",$F22="外销"),规则配置!$K$7,"")) | AQ22: =IF($F22="研发",规则配置!$J$8,IF(OR($F22="内销",$F22="外销"),规则配置!$K$8,"")) | AR22: =IF($F22="研发",规则配置!$J$9,IF(OR($F22="内销",$F22="外销"),规则配置!$K$9,"")) | AS22: =IF($F22="研发",规则配置!$J$10,IF(OR($F22="内销",$F22="外销"),规则配置!$K$10,"")) | AT22: =IF($F22="研发",规则配置!$J$11,IF(OR($F22="内销",$F22="外销"),规则配置!$K$11,"")) | AU22: =IF($F22="研发",规则配置!$J$12,IF(OR($F22="内销",$F22="外销"),规则配置!$K$12,"")) | AV22: =IF($F22="研发",规则配置!$J$13,IF(OR($F22="内销",$F22="外销"),规则配置!$K$13,"")) | AW22: =IF($F22="研发","",IF(OR($F22="内销",$F22="外销"),规则配置!$K$14,"")) | BA22: =规则配置!$L23 -> 0 | BB22: =规则配置!$M23 -> 0 | BC22: =规则配置!$N23 -> 0 | BD22: =规则配置!$O23 -> 0 | BE22: =规则配置!$P23 -> 0
AH23: =IF($D23="","",IF(NOT(ISNUMBER($AE23)),"待确认",IF(TODAY()<=$AE23,"质保内","质保外"))) | AI23: =IF($F23="研发",规则配置!$H$4,IF(OR($F23="内销",$F23="外销"),规则配置!$I$4,"")) | AJ23: =IF($F23="研发",规则配置!$H$5,IF(OR($F23="内销",$F23="外销"),规则配置!$I$5,"")) | AK23: =IF($F23="研发",规则配置!$H$6,IF(OR($F23="内销",$F23="外销"),规则配置!$I$6,"")) | AL23: =IF($F23="研发",规则配置!$H$7,IF(OR($F23="内销",$F23="外销"),"","")) | AM23: =IF($F23="研发",规则配置!$J$4,IF(OR($F23="内销",$F23="外销"),规则配置!$K$4,"")) | AN23: =IF($F23="研发",规则配置!$J$5,IF(OR($F23="内销",$F23="外销"),规则配置!$K$5,"")) | AO23: =IF($F23="研发",规则配置!$J$6,IF(OR($F23="内销",$F23="外销"),规则配置!$K$6,"")) | AP23: =IF($F23="研发",规则配置!$J$7,IF(OR($F23="内销",$F23="外销"),规则配置!$K$7,"")) | AQ23: =IF($F23="研发",规则配置!$J$8,IF(OR($F23="内销",$F23="外销"),规则配置!$K$8,"")) | AR23: =IF($F23="研发",规则配置!$J$9,IF(OR($F23="内销",$F23="外销"),规则配置!$K$9,"")) | AS23: =IF($F23="研发",规则配置!$J$10,IF(OR($F23="内销",$F23="外销"),规则配置!$K$10,"")) | AT23: =IF($F23="研发",规则配置!$J$11,IF(OR($F23="内销",$F23="外销"),规则配置!$K$11,"")) | AU23: =IF($F23="研发",规则配置!$J$12,IF(OR($F23="内销",$F23="外销"),规则配置!$K$12,"")) | AV23: =IF($F23="研发",规则配置!$J$13,IF(OR($F23="内销",$F23="外销"),规则配置!$K$13,"")) | AW23: =IF($F23="研发","",IF(OR($F23="内销",$F23="外销"),规则配置!$K$14,"")) | BA23: =规则配置!$L24 -> 0 | BB23: =规则配置!$M24 -> 0 | BC23: =规则配置!$N24 -> 0 | BD23: =规则配置!$O24 -> 0 | BE23: =规则配置!$P24 -> 0
AH24: =IF($D24="","",IF(NOT(ISNUMBER($AE24)),"待确认",IF(TODAY()<=$AE24,"质保内","质保外"))) | AI24: =IF($F24="研发",规则配置!$H$4,IF(OR($F24="内销",$F24="外销"),规则配置!$I$4,"")) | AJ24: =IF($F24="研发",规则配置!$H$5,IF(OR($F24="内销",$F24="外销"),规则配置!$I$5,"")) | AK24: =IF($F24="研发",规则配置!$H$6,IF(OR($F24="内销",$F24="外销"),规则配置!$I$6,"")) | AL24: =IF($F24="研发",规则配置!$H$7,IF(OR($F24="内销",$F24="外销"),"","")) | AM24: =IF($F24="研发",规则配置!$J$4,IF(OR($F24="内销",$F24="外销"),规则配置!$K$4,"")) | AN24: =IF($F24="研发",规则配置!$J$5,IF(OR($F24="内销",$F24="外销"),规则配置!$K$5,"")) | AO24: =IF($F24="研发",规则配置!$J$6,IF(OR($F24="内销",$F24="外销"),规则配置!$K$6,"")) | AP24: =IF($F24="研发",规则配置!$J$7,IF(OR($F24="内销",$F24="外销"),规则配置!$K$7,"")) | AQ24: =IF($F24="研发",规则配置!$J$8,IF(OR($F24="内销",$F24="外销"),规则配置!$K$8,"")) | AR24: =IF($F24="研发",规则配置!$J$9,IF(OR($F24="内销",$F24="外销"),规则配置!$K$9,"")) | AS24: =IF($F24="研发",规则配置!$J$10,IF(OR($F24="内销",$F24="外销"),规则配置!$K$10,"")) | AT24: =IF($F24="研发",规则配置!$J$11,IF(OR($F24="内销",$F24="外销"),规则配置!$K$11,"")) | AU24: =IF($F24="研发",规则配置!$J$12,IF(OR($F24="内销",$F24="外销"),规则配置!$K$12,"")) | AV24: =IF($F24="研发",规则配置!$J$13,IF(OR($F24="内销",$F24="外销"),规则配置!$K$13,"")) | AW24: =IF($F24="研发","",IF(OR($F24="内销",$F24="外销"),规则配置!$K$14,"")) | BA24: =规则配置!$L25 -> 0 | BB24: =规则配置!$M25 -> 0 | BC24: =规则配置!$N25 -> 0 | BD24: =规则配置!$O25 -> 0 | BE24: =规则配置!$P25 -> 0
AH25: =IF($D25="","",IF(NOT(ISNUMBER($AE25)),"待确认",IF(TODAY()<=$AE25,"质保内","质保外"))) | AI25: =IF($F25="研发",规则配置!$H$4,IF(OR($F25="内销",$F25="外销"),规则配置!$I$4,"")) | AJ25: =IF($F25="研发",规则配置!$H$5,IF(OR($F25="内销",$F25="外销"),规则配置!$I$5,"")) | AK25: =IF($F25="研发",规则配置!$H$6,IF(OR($F25="内销",$F25="外销"),规则配置!$I$6,"")) | AL25: =IF($F25="研发",规则配置!$H$7,IF(OR($F25="内销",$F25="外销"),"","")) | AM25: =IF($F25="研发",规则配置!$J$4,IF(OR($F25="内销",$F25="外销"),规则配置!$K$4,"")) | AN25: =IF($F25="研发",规则配置!$J$5,IF(OR($F25="内销",$F25="外销"),规则配置!$K$5,"")) | AO25: =IF($F25="研发",规则配置!$J$6,IF(OR($F25="内销",$F25="外销"),规则配置!$K$6,"")) | AP25: =IF($F25="研发",规则配置!$J$7,IF(OR($F25="内销",$F25="外销"),规则配置!$K$7,"")) | AQ25: =IF($F25="研发",规则配置!$J$8,IF(OR($F25="内销",$F25="外销"),规则配置!$K$8,"")) | AR25: =IF($F25="研发",规则配置!$J$9,IF(OR($F25="内销",$F25="外销"),规则配置!$K$9,"")) | AS25: =IF($F25="研发",规则配置!$J$10,IF(OR($F25="内销",$F25="外销"),规则配置!$K$10,"")) | AT25: =IF($F25="研发",规则配置!$J$11,IF(OR($F25="内销",$F25="外销"),规则配置!$K$11,"")) | AU25: =IF($F25="研发",规则配置!$J$12,IF(OR($F25="内销",$F25="外销"),规则配置!$K$12,"")) | AV25: =IF($F25="研发",规则配置!$J$13,IF(OR($F25="内销",$F25="外销"),规则配置!$K$13,"")) | AW25: =IF($F25="研发","",IF(OR($F25="内销",$F25="外销"),规则配置!$K$14,"")) | BA25: =规则配置!$L26 -> 0 | BB25: =规则配置!$M26 -> 0 | BC25: =规则配置!$N26 -> 0 | BD25: =规则配置!$O26 -> 0 | BE25: =规则配置!$P26 -> 0
AH26: =IF($D26="","",IF(NOT(ISNUMBER($AE26)),"待确认",IF(TODAY()<=$AE26,"质保内","质保外"))) | AI26: =IF($F26="研发",规则配置!$H$4,IF(OR($F26="内销",$F26="外销"),规则配置!$I$4,"")) | AJ26: =IF($F26="研发",规则配置!$H$5,IF(OR($F26="内销",$F26="外销"),规则配置!$I$5,"")) | AK26: =IF($F26="研发",规则配置!$H$6,IF(OR($F26="内销",$F26="外销"),规则配置!$I$6,"")) | AL26: =IF($F26="研发",规则配置!$H$7,IF(OR($F26="内销",$F26="外销"),"","")) | AM26: =IF($F26="研发",规则配置!$J$4,IF(OR($F26="内销",$F26="外销"),规则配置!$K$4,"")) | AN26: =IF($F26="研发",规则配置!$J$5,IF(OR($F26="内销",$F26="外销"),规则配置!$K$5,"")) | AO26: =IF($F26="研发",规则配置!$J$6,IF(OR($F26="内销",$F26="外销"),规则配置!$K$6,"")) | AP26: =IF($F26="研发",规则配置!$J$7,IF(OR($F26="内销",$F26="外销"),规则配置!$K$7,"")) | AQ26: =IF($F26="研发",规则配置!$J$8,IF(OR($F26="内销",$F26="外销"),规则配置!$K$8,"")) | AR26: =IF($F26="研发",规则配置!$J$9,IF(OR($F26="内销",$F26="外销"),规则配置!$K$9,"")) | AS26: =IF($F26="研发",规则配置!$J$10,IF(OR($F26="内销",$F26="外销"),规则配置!$K$10,"")) | AT26: =IF($F26="研发",规则配置!$J$11,IF(OR($F26="内销",$F26="外销"),规则配置!$K$11,"")) | AU26: =IF($F26="研发",规则配置!$J$12,IF(OR($F26="内销",$F26="外销"),规则配置!$K$12,"")) | AV26: =IF($F26="研发",规则配置!$J$13,IF(OR($F26="内销",$F26="外销"),规则配置!$K$13,"")) | AW26: =IF($F26="研发","",IF(OR($F26="内销",$F26="外销"),规则配置!$K$14,"")) | BA26: =规则配置!$L27 -> 0 | BB26: =规则配置!$M27 -> 0 | BC26: =规则配置!$N27 -> 0 | BD26: =规则配置!$O27 -> 0 | BE26: =规则配置!$P27 -> 0
AH27: =IF($D27="","",IF(NOT(ISNUMBER($AE27)),"待确认",IF(TODAY()<=$AE27,"质保内","质保外"))) | AI27: =IF($F27="研发",规则配置!$H$4,IF(OR($F27="内销",$F27="外销"),规则配置!$I$4,"")) | AJ27: =IF($F27="研发",规则配置!$H$5,IF(OR($F27="内销",$F27="外销"),规则配置!$I$5,"")) | AK27: =IF($F27="研发",规则配置!$H$6,IF(OR($F27="内销",$F27="外销"),规则配置!$I$6,"")) | AL27: =IF($F27="研发",规则配置!$H$7,IF(OR($F27="内销",$F27="外销"),"","")) | AM27: =IF($F27="研发",规则配置!$J$4,IF(OR($F27="内销",$F27="外销"),规则配置!$K$4,"")) | AN27: =IF($F27="研发",规则配置!$J$5,IF(OR($F27="内销",$F27="外销"),规则配置!$K$5,"")) | AO27: =IF($F27="研发",规则配置!$J$6,IF(OR($F27="内销",$F27="外销"),规则配置!$K$6,"")) | AP27: =IF($F27="研发",规则配置!$J$7,IF(OR($F27="内销",$F27="外销"),规则配置!$K$7,"")) | AQ27: =IF($F27="研发",规则配置!$J$8,IF(OR($F27="内销",$F27="外销"),规则配置!$K$8,"")) | AR27: =IF($F27="研发",规则配置!$J$9,IF(OR($F27="内销",$F27="外销"),规则配置!$K$9,"")) | AS27: =IF($F27="研发",规则配置!$J$10,IF(OR($F27="内销",$F27="外销"),规则配置!$K$10,"")) | AT27: =IF($F27="研发",规则配置!$J$11,IF(OR($F27="内销",$F27="外销"),规则配置!$K$11,"")) | AU27: =IF($F27="研发",规则配置!$J$12,IF(OR($F27="内销",$F27="外销"),规则配置!$K$12,"")) | AV27: =IF($F27="研发",规则配置!$J$13,IF(OR($F27="内销",$F27="外销"),规则配置!$K$13,"")) | AW27: =IF($F27="研发","",IF(OR($F27="内销",$F27="外销"),规则配置!$K$14,"")) | BA27: =规则配置!$L28 -> 0 | BB27: =规则配置!$M28 -> 0 | BC27: =规则配置!$N28 -> 0 | BD27: =规则配置!$O28 -> 0 | BE27: =规则配置!$P28 -> 0
AH28: =IF($D28="","",IF(NOT(ISNUMBER($AE28)),"待确认",IF(TODAY()<=$AE28,"质保内","质保外"))) | AI28: =IF($F28="研发",规则配置!$H$4,IF(OR($F28="内销",$F28="外销"),规则配置!$I$4,"")) | AJ28: =IF($F28="研发",规则配置!$H$5,IF(OR($F28="内销",$F28="外销"),规则配置!$I$5,"")) | AK28: =IF($F28="研发",规则配置!$H$6,IF(OR($F28="内销",$F28="外销"),规则配置!$I$6,"")) | AL28: =IF($F28="研发",规则配置!$H$7,IF(OR($F28="内销",$F28="外销"),"","")) | AM28: =IF($F28="研发",规则配置!$J$4,IF(OR($F28="内销",$F28="外销"),规则配置!$K$4,"")) | AN28: =IF($F28="研发",规则配置!$J$5,IF(OR($F28="内销",$F28="外销"),规则配置!$K$5,"")) | AO28: =IF($F28="研发",规则配置!$J$6,IF(OR($F28="内销",$F28="外销"),规则配置!$K$6,"")) | AP28: =IF($F28="研发",规则配置!$J$7,IF(OR($F28="内销",$F28="外销"),规则配置!$K$7,"")) | AQ28: =IF($F28="研发",规则配置!$J$8,IF(OR($F28="内销",$F28="外销"),规则配置!$K$8,"")) | AR28: =IF($F28="研发",规则配置!$J$9,IF(OR($F28="内销",$F28="外销"),规则配置!$K$9,"")) | AS28: =IF($F28="研发",规则配置!$J$10,IF(OR($F28="内销",$F28="外销"),规则配置!$K$10,"")) | AT28: =IF($F28="研发",规则配置!$J$11,IF(OR($F28="内销",$F28="外销"),规则配置!$K$11,"")) | AU28: =IF($F28="研发",规则配置!$J$12,IF(OR($F28="内销",$F28="外销"),规则配置!$K$12,"")) | AV28: =IF($F28="研发",规则配置!$J$13,IF(OR($F28="内销",$F28="外销"),规则配置!$K$13,"")) | AW28: =IF($F28="研发","",IF(OR($F28="内销",$F28="外销"),规则配置!$K$14,"")) | BA28: =规则配置!$L29 -> 0 | BB28: =规则配置!$M29 -> 0 | BC28: =规则配置!$N29 -> 0 | BD28: =规则配置!$O29 -> 0 | BE28: =规则配置!$P29 -> 0
AH29: =IF($D29="","",IF(NOT(ISNUMBER($AE29)),"待确认",IF(TODAY()<=$AE29,"质保内","质保外"))) | AI29: =IF($F29="研发",规则配置!$H$4,IF(OR($F29="内销",$F29="外销"),规则配置!$I$4,"")) | AJ29: =IF($F29="研发",规则配置!$H$5,IF(OR($F29="内销",$F29="外销"),规则配置!$I$5,"")) | AK29: =IF($F29="研发",规则配置!$H$6,IF(OR($F29="内销",$F29="外销"),规则配置!$I$6,"")) | AL29: =IF($F29="研发",规则配置!$H$7,IF(OR($F29="内销",$F29="外销"),"","")) | AM29: =IF($F29="研发",规则配置!$J$4,IF(OR($F29="内销",$F29="外销"),规则配置!$K$4,"")) | AN29: =IF($F29="研发",规则配置!$J$5,IF(OR($F29="内销",$F29="外销"),规则配置!$K$5,"")) | AO29: =IF($F29="研发",规则配置!$J$6,IF(OR($F29="内销",$F29="外销"),规则配置!$K$6,"")) | AP29: =IF($F29="研发",规则配置!$J$7,IF(OR($F29="内销",$F29="外销"),规则配置!$K$7,"")) | AQ29: =IF($F29="研发",规则配置!$J$8,IF(OR($F29="内销",$F29="外销"),规则配置!$K$8,"")) | AR29: =IF($F29="研发",规则配置!$J$9,IF(OR($F29="内销",$F29="外销"),规则配置!$K$9,"")) | AS29: =IF($F29="研发",规则配置!$J$10,IF(OR($F29="内销",$F29="外销"),规则配置!$K$10,"")) | AT29: =IF($F29="研发",规则配置!$J$11,IF(OR($F29="内销",$F29="外销"),规则配置!$K$11,"")) | AU29: =IF($F29="研发",规则配置!$J$12,IF(OR($F29="内销",$F29="外销"),规则配置!$K$12,"")) | AV29: =IF($F29="研发",规则配置!$J$13,IF(OR($F29="内销",$F29="外销"),规则配置!$K$13,"")) | AW29: =IF($F29="研发","",IF(OR($F29="内销",$F29="外销"),规则配置!$K$14,"")) | BA29: =规则配置!$L30 -> 0 | BB29: =规则配置!$M30 -> 0 | BC29: =规则配置!$N30 -> 0 | BD29: =规则配置!$O30 -> 0 | BE29: =规则配置!$P30 -> 0
AH30: =IF($D30="","",IF(NOT(ISNUMBER($AE30)),"待确认",IF(TODAY()<=$AE30,"质保内","质保外"))) | AI30: =IF($F30="研发",规则配置!$H$4,IF(OR($F30="内销",$F30="外销"),规则配置!$I$4,"")) | AJ30: =IF($F30="研发",规则配置!$H$5,IF(OR($F30="内销",$F30="外销"),规则配置!$I$5,"")) | AK30: =IF($F30="研发",规则配置!$H$6,IF(OR($F30="内销",$F30="外销"),规则配置!$I$6,"")) | AL30: =IF($F30="研发",规则配置!$H$7,IF(OR($F30="内销",$F30="外销"),"","")) | AM30: =IF($F30="研发",规则配置!$J$4,IF(OR($F30="内销",$F30="外销"),规则配置!$K$4,"")) | AN30: =IF($F30="研发",规则配置!$J$5,IF(OR($F30="内销",$F30="外销"),规则配置!$K$5,"")) | AO30: =IF($F30="研发",规则配置!$J$6,IF(OR($F30="内销",$F30="外销"),规则配置!$K$6,"")) | AP30: =IF($F30="研发",规则配置!$J$7,IF(OR($F30="内销",$F30="外销"),规则配置!$K$7,"")) | AQ30: =IF($F30="研发",规则配置!$J$8,IF(OR($F30="内销",$F30="外销"),规则配置!$K$8,"")) | AR30: =IF($F30="研发",规则配置!$J$9,IF(OR($F30="内销",$F30="外销"),规则配置!$K$9,"")) | AS30: =IF($F30="研发",规则配置!$J$10,IF(OR($F30="内销",$F30="外销"),规则配置!$K$10,"")) | AT30: =IF($F30="研发",规则配置!$J$11,IF(OR($F30="内销",$F30="外销"),规则配置!$K$11,"")) | AU30: =IF($F30="研发",规则配置!$J$12,IF(OR($F30="内销",$F30="外销"),规则配置!$K$12,"")) | AV30: =IF($F30="研发",规则配置!$J$13,IF(OR($F30="内销",$F30="外销"),规则配置!$K$13,"")) | AW30: =IF($F30="研发","",IF(OR($F30="内销",$F30="外销"),规则配置!$K$14,"")) | BA30: =规则配置!$L31 -> 0 | BB30: =规则配置!$M31 -> 0 | BC30: =规则配置!$N31 -> 0 | BD30: =规则配置!$O31 -> 0 | BE30: =规则配置!$P31 -> 0
AH31: =IF($D31="","",IF(NOT(ISNUMBER($AE31)),"待确认",IF(TODAY()<=$AE31,"质保内","质保外"))) | AI31: =IF($F31="研发",规则配置!$H$4,IF(OR($F31="内销",$F31="外销"),规则配置!$I$4,"")) | AJ31: =IF($F31="研发",规则配置!$H$5,IF(OR($F31="内销",$F31="外销"),规则配置!$I$5,"")) | AK31: =IF($F31="研发",规则配置!$H$6,IF(OR($F31="内销",$F31="外销"),规则配置!$I$6,"")) | AL31: =IF($F31="研发",规则配置!$H$7,IF(OR($F31="内销",$F31="外销"),"","")) | AM31: =IF($F31="研发",规则配置!$J$4,IF(OR($F31="内销",$F31="外销"),规则配置!$K$4,"")) | AN31: =IF($F31="研发",规则配置!$J$5,IF(OR($F31="内销",$F31="外销"),规则配置!$K$5,"")) | AO31: =IF($F31="研发",规则配置!$J$6,IF(OR($F31="内销",$F31="外销"),规则配置!$K$6,"")) | AP31: =IF($F31="研发",规则配置!$J$7,IF(OR($F31="内销",$F31="外销"),规则配置!$K$7,"")) | AQ31: =IF($F31="研发",规则配置!$J$8,IF(OR($F31="内销",$F31="外销"),规则配置!$K$8,"")) | AR31: =IF($F31="研发",规则配置!$J$9,IF(OR($F31="内销",$F31="外销"),规则配置!$K$9,"")) | AS31: =IF($F31="研发",规则配置!$J$10,IF(OR($F31="内销",$F31="外销"),规则配置!$K$10,"")) | AT31: =IF($F31="研发",规则配置!$J$11,IF(OR($F31="内销",$F31="外销"),规则配置!$K$11,"")) | AU31: =IF($F31="研发",规则配置!$J$12,IF(OR($F31="内销",$F31="外销"),规则配置!$K$12,"")) | AV31: =IF($F31="研发",规则配置!$J$13,IF(OR($F31="内销",$F31="外销"),规则配置!$K$13,"")) | AW31: =IF($F31="研发","",IF(OR($F31="内销",$F31="外销"),规则配置!$K$14,"")) | BA31: =规则配置!$L32 -> 0 | BB31: =规则配置!$M32 -> 0 | BC31: =规则配置!$N32 -> 0 | BD31: =规则配置!$O32 -> 0 | BE31: =规则配置!$P32 -> 0
AH32: =IF($D32="","",IF(NOT(ISNUMBER($AE32)),"待确认",IF(TODAY()<=$AE32,"质保内","质保外"))) | AI32: =IF($F32="研发",规则配置!$H$4,IF(OR($F32="内销",$F32="外销"),规则配置!$I$4,"")) | AJ32: =IF($F32="研发",规则配置!$H$5,IF(OR($F32="内销",$F32="外销"),规则配置!$I$5,"")) | AK32: =IF($F32="研发",规则配置!$H$6,IF(OR($F32="内销",$F32="外销"),规则配置!$I$6,"")) | AL32: =IF($F32="研发",规则配置!$H$7,IF(OR($F32="内销",$F32="外销"),"","")) | AM32: =IF($F32="研发",规则配置!$J$4,IF(OR($F32="内销",$F32="外销"),规则配置!$K$4,"")) | AN32: =IF($F32="研发",规则配置!$J$5,IF(OR($F32="内销",$F32="外销"),规则配置!$K$5,"")) | AO32: =IF($F32="研发",规则配置!$J$6,IF(OR($F32="内销",$F32="外销"),规则配置!$K$6,"")) | AP32: =IF($F32="研发",规则配置!$J$7,IF(OR($F32="内销",$F32="外销"),规则配置!$K$7,"")) | AQ32: =IF($F32="研发",规则配置!$J$8,IF(OR($F32="内销",$F32="外销"),规则配置!$K$8,"")) | AR32: =IF($F32="研发",规则配置!$J$9,IF(OR($F32="内销",$F32="外销"),规则配置!$K$9,"")) | AS32: =IF($F32="研发",规则配置!$J$10,IF(OR($F32="内销",$F32="外销"),规则配置!$K$10,"")) | AT32: =IF($F32="研发",规则配置!$J$11,IF(OR($F32="内销",$F32="外销"),规则配置!$K$11,"")) | AU32: =IF($F32="研发",规则配置!$J$12,IF(OR($F32="内销",$F32="外销"),规则配置!$K$12,"")) | AV32: =IF($F32="研发",规则配置!$J$13,IF(OR($F32="内销",$F32="外销"),规则配置!$K$13,"")) | AW32: =IF($F32="研发","",IF(OR($F32="内销",$F32="外销"),规则配置!$K$14,"")) | BA32: =规则配置!$L33 -> 0 | BB32: =规则配置!$M33 -> 0 | BC32: =规则配置!$N33 -> 0 | BD32: =规则配置!$O33 -> 0 | BE32: =规则配置!$P33 -> 0
... AH39: =IF($D39="","",IF(NOT(ISNUMBER($AE39)),"待确认",IF(TODAY()<=$AE39,"质保内","质保外"))) | AI39: =IF($F39="研发",规则配置!$H$4,IF(OR($F39="内销",$F39="外销"),规则配置!$I$4,"")) | AJ39: =IF($F39="研发",规则配置!$H$5,IF(OR($F39="内销",$F39="外销"),规则配置!$I$5,"")) | AK39: =IF($F39="研发",规则配置!$H$6,IF(OR($F39="内销",$F39="外销"),规则配置!$I$6,"")) | AL39: =IF($F39="研发",规则配置!$H$7,IF(OR($F39="内销",$F39="外销"),"","")) | AM39: =IF($F39="研发",规则配置!$J$4,IF(OR($F39="内销",$F39="外销"),规则配置!$K$4,"")) | AN39: =IF($F39="研发",规则配置!$J$5,IF(OR($F39="内销",$F39="外销"),规则配置!$K$5,"")) | AO39: =IF($F39="研发",规则配置!$J$6,IF(OR($F39="内销",$F39="外销"),规则配置!$K$6,"")) | AP39: =IF($F39="研发",规则配置!$J$7,IF(OR($F39="内销",$F39="外销"),规则配置!$K$7,"")) | AQ39: =IF($F39="研发",规则配置!$J$8,IF(OR($F39="内销",$F39="外销"),规则配置!$K$8,"")) | AR39: =IF($F39="研发",规则配置!$J$9,IF(OR($F39="内销",$F39="外销"),规则配置!$K$9,"")) | AS39: =IF($F39="研发",规则配置!$J$10,IF(OR($F39="内销",$F39="外销"),规则配置!$K$10,"")) | AT39: =IF($F39="研发",规则配置!$J$11,IF(OR($F39="内销",$F39="外销"),规则配置!$K$11,"")) | AU39: =IF($F39="研发",规则配置!$J$12,IF(OR($F39="内销",$F39="外销"),规则配置!$K$12,"")) | AV39: =IF($F39="研发",规则配置!$J$13,IF(OR($F39="内销",$F39="外销"),规则配置!$K$13,"")) | AW39: =IF($F39="研发","",IF(OR($F39="内销",$F39="外销"),规则配置!$K$14,"")) | BA39: =规则配置!$L40 -> 0 | BB39: =规则配置!$M40 -> 0 | BC39: =规则配置!$N40 -> 0 | BD39: =规则配置!$O40 -> 0 | BE39: =规则配置!$P40 -> 0
AH40: =IF($D40="","",IF(NOT(ISNUMBER($AE40)),"待确认",IF(TODAY()<=$AE40,"质保内","质保外"))) | AI40: =IF($F40="研发",规则配置!$H$4,IF(OR($F40="内销",$F40="外销"),规则配置!$I$4,"")) | AJ40: =IF($F40="研发",规则配置!$H$5,IF(OR($F40="内销",$F40="外销"),规则配置!$I$5,"")) | AK40: =IF($F40="研发",规则配置!$H$6,IF(OR($F40="内销",$F40="外销"),规则配置!$I$6,"")) | AL40: =IF($F40="研发",规则配置!$H$7,IF(OR($F40="内销",$F40="外销"),"","")) | AM40: =IF($F40="研发",规则配置!$J$4,IF(OR($F40="内销",$F40="外销"),规则配置!$K$4,"")) | AN40: =IF($F40="研发",规则配置!$J$5,IF(OR($F40="内销",$F40="外销"),规则配置!$K$5,"")) | AO40: =IF($F40="研发",规则配置!$J$6,IF(OR($F40="内销",$F40="外销"),规则配置!$K$6,"")) | AP40: =IF($F40="研发",规则配置!$J$7,IF(OR($F40="内销",$F40="外销"),规则配置!$K$7,"")) | AQ40: =IF($F40="研发",规则配置!$J$8,IF(OR($F40="内销",$F40="外销"),规则配置!$K$8,"")) | AR40: =IF($F40="研发",规则配置!$J$9,IF(OR($F40="内销",$F40="外销"),规则配置!$K$9,"")) | AS40: =IF($F40="研发",规则配置!$J$10,IF(OR($F40="内销",$F40="外销"),规则配置!$K$10,"")) | AT40: =IF($F40="研发",规则配置!$J$11,IF(OR($F40="内销",$F40="外销"),规则配置!$K$11,"")) | AU40: =IF($F40="研发",规则配置!$J$12,IF(OR($F40="内销",$F40="外销"),规则配置!$K$12,"")) | AV40: =IF($F40="研发",规则配置!$J$13,IF(OR($F40="内销",$F40="外销"),规则配置!$K$13,"")) | AW40: =IF($F40="研发","",IF(OR($F40="内销",$F40="外销"),规则配置!$K$14,"")) | BA40: =规则配置!$L41 -> 0 | BC40: =规则配置!$N41 -> 0 | BD40: =规则配置!$O41 -> 0 | BE40: =规则配置!$P41 -> 0
AH41: =IF($D41="","",IF(NOT(ISNUMBER($AE41)),"待确认",IF(TODAY()<=$AE41,"质保内","质保外"))) | AI41: =IF($F41="研发",规则配置!$H$4,IF(OR($F41="内销",$F41="外销"),规则配置!$I$4,"")) | AJ41: =IF($F41="研发",规则配置!$H$5,IF(OR($F41="内销",$F41="外销"),规则配置!$I$5,"")) | AK41: =IF($F41="研发",规则配置!$H$6,IF(OR($F41="内销",$F41="外销"),规则配置!$I$6,"")) | AL41: =IF($F41="研发",规则配置!$H$7,IF(OR($F41="内销",$F41="外销"),"","")) | AM41: =IF($F41="研发",规则配置!$J$4,IF(OR($F41="内销",$F41="外销"),规则配置!$K$4,"")) | AN41: =IF($F41="研发",规则配置!$J$5,IF(OR($F41="内销",$F41="外销"),规则配置!$K$5,"")) | AO41: =IF($F41="研发",规则配置!$J$6,IF(OR($F41="内销",$F41="外销"),规则配置!$K$6,"")) | AP41: =IF($F41="研发",规则配置!$J$7,IF(OR($F41="内销",$F41="外销"),规则配置!$K$7,"")) | AQ41: =IF($F41="研发",规则配置!$J$8,IF(OR($F41="内销",$F41="外销"),规则配置!$K$8,"")) | AR41: =IF($F41="研发",规则配置!$J$9,IF(OR($F41="内销",$F41="外销"),规则配置!$K$9,"")) | AS41: =IF($F41="研发",规则配置!$J$10,IF(OR($F41="内销",$F41="外销"),规则配置!$K$10,"")) | AT41: =IF($F41="研发",规则配置!$J$11,IF(OR($F41="内销",$F41="外销"),规则配置!$K$11,"")) | AU41: =IF($F41="研发",规则配置!$J$12,IF(OR($F41="内销",$F41="外销"),规则配置!$K$12,"")) | AV41: =IF($F41="研发",规则配置!$J$13,IF(OR($F41="内销",$F41="外销"),规则配置!$K$13,"")) | AW41: =IF($F41="研发","",IF(OR($F41="内销",$F41="外销"),规则配置!$K$14,"")) | BA41: =规则配置!$L42 -> 0 | BC41: =规则配置!$N42 -> 0 | BD41: =规则配置!$O42 -> 0 | BE41: =规则配置!$P42 -> 0
AH42: =IF($D42="","",IF(NOT(ISNUMBER($AE42)),"待确认",IF(TODAY()<=$AE42,"质保内","质保外"))) | AI42: =IF($F42="研发",规则配置!$H$4,IF(OR($F42="内销",$F42="外销"),规则配置!$I$4,"")) | AJ42: =IF($F42="研发",规则配置!$H$5,IF(OR($F42="内销",$F42="外销"),规则配置!$I$5,"")) | AK42: =IF($F42="研发",规则配置!$H$6,IF(OR($F42="内销",$F42="外销"),规则配置!$I$6,"")) | AL42: =IF($F42="研发",规则配置!$H$7,IF(OR($F42="内销",$F42="外销"),"","")) | AM42: =IF($F42="研发",规则配置!$J$4,IF(OR($F42="内销",$F42="外销"),规则配置!$K$4,"")) | AN42: =IF($F42="研发",规则配置!$J$5,IF(OR($F42="内销",$F42="外销"),规则配置!$K$5,"")) | AO42: =IF($F42="研发",规则配置!$J$6,IF(OR($F42="内销",$F42="外销"),规则配置!$K$6,"")) | AP42: =IF($F42="研发",规则配置!$J$7,IF(OR($F42="内销",$F42="外销"),规则配置!$K$7,"")) | AQ42: =IF($F42="研发",规则配置!$J$8,IF(OR($F42="内销",$F42="外销"),规则配置!$K$8,"")) | AR42: =IF($F42="研发",规则配置!$J$9,IF(OR($F42="内销",$F42="外销"),规则配置!$K$9,"")) | AS42: =IF($F42="研发",规则配置!$J$10,IF(OR($F42="内销",$F42="外销"),规则配置!$K$10,"")) | AT42: =IF($F42="研发",规则配置!$J$11,IF(OR($F42="内销",$F42="外销"),规则配置!$K$11,"")) | AU42: =IF($F42="研发",规则配置!$J$12,IF(OR($F42="内销",$F42="外销"),规则配置!$K$12,"")) | AV42: =IF($F42="研发",规则配置!$J$13,IF(OR($F42="内销",$F42="外销"),规则配置!$K$13,"")) | AW42: =IF($F42="研发","",IF(OR($F42="内销",$F42="外销"),规则配置!$K$14,"")) | BA42: =规则配置!$L43 -> 0 | BC42: =规则配置!$N43 -> 0 | BD42: =规则配置!$O43 -> 0 | BE42: =规则配置!$P43 -> 0
AH43: =IF($D43="","",IF(NOT(ISNUMBER($AE43)),"待确认",IF(TODAY()<=$AE43,"质保内","质保外"))) | AI43: =IF($F43="研发",规则配置!$H$4,IF(OR($F43="内销",$F43="外销"),规则配置!$I$4,"")) | AJ43: =IF($F43="研发",规则配置!$H$5,IF(OR($F43="内销",$F43="外销"),规则配置!$I$5,"")) | AK43: =IF($F43="研发",规则配置!$H$6,IF(OR($F43="内销",$F43="外销"),规则配置!$I$6,"")) | AL43: =IF($F43="研发",规则配置!$H$7,IF(OR($F43="内销",$F43="外销"),"","")) | AM43: =IF($F43="研发",规则配置!$J$4,IF(OR($F43="内销",$F43="外销"),规则配置!$K$4,"")) | AN43: =IF($F43="研发",规则配置!$J$5,IF(OR($F43="内销",$F43="外销"),规则配置!$K$5,"")) | AO43: =IF($F43="研发",规则配置!$J$6,IF(OR($F43="内销",$F43="外销"),规则配置!$K$6,"")) | AP43: =IF($F43="研发",规则配置!$J$7,IF(OR($F43="内销",$F43="外销"),规则配置!$K$7,"")) | AQ43: =IF($F43="研发",规则配置!$J$8,IF(OR($F43="内销",$F43="外销"),规则配置!$K$8,"")) | AR43: =IF($F43="研发",规则配置!$J$9,IF(OR($F43="内销",$F43="外销"),规则配置!$K$9,"")) | AS43: =IF($F43="研发",规则配置!$J$10,IF(OR($F43="内销",$F43="外销"),规则配置!$K$10,"")) | AT43: =IF($F43="研发",规则配置!$J$11,IF(OR($F43="内销",$F43="外销"),规则配置!$K$11,"")) | AU43: =IF($F43="研发",规则配置!$J$12,IF(OR($F43="内销",$F43="外销"),规则配置!$K$12,"")) | AV43: =IF($F43="研发",规则配置!$J$13,IF(OR($F43="内销",$F43="外销"),规则配置!$K$13,"")) | AW43: =IF($F43="研发","",IF(OR($F43="内销",$F43="外销"),规则配置!$K$14,"")) | BA43: =规则配置!$L44 -> 0 | BC43: =规则配置!$N44 -> 0 | BD43: =规则配置!$O44 -> 0 | BE43: =规则配置!$P44 -> 0
AH44: =IF($D44="","",IF(NOT(ISNUMBER($AE44)),"待确认",IF(TODAY()<=$AE44,"质保内","质保外"))) | AI44: =IF($F44="研发",规则配置!$H$4,IF(OR($F44="内销",$F44="外销"),规则配置!$I$4,"")) | AJ44: =IF($F44="研发",规则配置!$H$5,IF(OR($F44="内销",$F44="外销"),规则配置!$I$5,"")) | AK44: =IF($F44="研发",规则配置!$H$6,IF(OR($F44="内销",$F44="外销"),规则配置!$I$6,"")) | AL44: =IF($F44="研发",规则配置!$H$7,IF(OR($F44="内销",$F44="外销"),"","")) | AM44: =IF($F44="研发",规则配置!$J$4,IF(OR($F44="内销",$F44="外销"),规则配置!$K$4,"")) | AN44: =IF($F44="研发",规则配置!$J$5,IF(OR($F44="内销",$F44="外销"),规则配置!$K$5,"")) | AO44: =IF($F44="研发",规则配置!$J$6,IF(OR($F44="内销",$F44="外销"),规则配置!$K$6,"")) | AP44: =IF($F44="研发",规则配置!$J$7,IF(OR($F44="内销",$F44="外销"),规则配置!$K$7,"")) | AQ44: =IF($F44="研发",规则配置!$J$8,IF(OR($F44="内销",$F44="外销"),规则配置!$K$8,"")) | AR44: =IF($F44="研发",规则配置!$J$9,IF(OR($F44="内销",$F44="外销"),规则配置!$K$9,"")) | AS44: =IF($F44="研发",规则配置!$J$10,IF(OR($F44="内销",$F44="外销"),规则配置!$K$10,"")) | AT44: =IF($F44="研发",规则配置!$J$11,IF(OR($F44="内销",$F44="外销"),规则配置!$K$11,"")) | AU44: =IF($F44="研发",规则配置!$J$12,IF(OR($F44="内销",$F44="外销"),规则配置!$K$12,"")) | AV44: =IF($F44="研发",规则配置!$J$13,IF(OR($F44="内销",$F44="外销"),规则配置!$K$13,"")) | AW44: =IF($F44="研发","",IF(OR($F44="内销",$F44="外销"),规则配置!$K$14,"")) | BA44: =规则配置!$L45 -> 0 | BC44: =规则配置!$N45 -> 0 | BD44: =规则配置!$O45 -> 0 | BE44: =规则配置!$P45 -> 0
AH45: =IF($D45="","",IF(NOT(ISNUMBER($AE45)),"待确认",IF(TODAY()<=$AE45,"质保内","质保外"))) | AI45: =IF($F45="研发",规则配置!$H$4,IF(OR($F45="内销",$F45="外销"),规则配置!$I$4,"")) | AJ45: =IF($F45="研发",规则配置!$H$5,IF(OR($F45="内销",$F45="外销"),规则配置!$I$5,"")) | AK45: =IF($F45="研发",规则配置!$H$6,IF(OR($F45="内销",$F45="外销"),规则配置!$I$6,"")) | AL45: =IF($F45="研发",规则配置!$H$7,IF(OR($F45="内销",$F45="外销"),"","")) | AM45: =IF($F45="研发",规则配置!$J$4,IF(OR($F45="内销",$F45="外销"),规则配置!$K$4,"")) | AN45: =IF($F45="研发",规则配置!$J$5,IF(OR($F45="内销",$F45="外销"),规则配置!$K$5,"")) | AO45: =IF($F45="研发",规则配置!$J$6,IF(OR($F45="内销",$F45="外销"),规则配置!$K$6,"")) | AP45: =IF($F45="研发",规则配置!$J$7,IF(OR($F45="内销",$F45="外销"),规则配置!$K$7,"")) | AQ45: =IF($F45="研发",规则配置!$J$8,IF(OR($F45="内销",$F45="外销"),规则配置!$K$8,"")) | AR45: =IF($F45="研发",规则配置!$J$9,IF(OR($F45="内销",$F45="外销"),规则配置!$K$9,"")) | AS45: =IF($F45="研发",规则配置!$J$10,IF(OR($F45="内销",$F45="外销"),规则配置!$K$10,"")) | AT45: =IF($F45="研发",规则配置!$J$11,IF(OR($F45="内销",$F45="外销"),规则配置!$K$11,"")) | AU45: =IF($F45="研发",规则配置!$J$12,IF(OR($F45="内销",$F45="外销"),规则配置!$K$12,"")) | AV45: =IF($F45="研发",规则配置!$J$13,IF(OR($F45="内销",$F45="外销"),规则配置!$K$13,"")) | AW45: =IF($F45="研发","",IF(OR($F45="内销",$F45="外销"),规则配置!$K$14,"")) | BA45: =规则配置!$L46 -> 0 | BC45: =规则配置!$N46 -> 0 | BD45: =规则配置!$O46 -> 0 | BE45: =规则配置!$P46 -> 0
AH46: =IF($D46="","",IF(NOT(ISNUMBER($AE46)),"待确认",IF(TODAY()<=$AE46,"质保内","质保外"))) | AI46: =IF($F46="研发",规则配置!$H$4,IF(OR($F46="内销",$F46="外销"),规则配置!$I$4,"")) | AJ46: =IF($F46="研发",规则配置!$H$5,IF(OR($F46="内销",$F46="外销"),规则配置!$I$5,"")) | AK46: =IF($F46="研发",规则配置!$H$6,IF(OR($F46="内销",$F46="外销"),规则配置!$I$6,"")) | AL46: =IF($F46="研发",规则配置!$H$7,IF(OR($F46="内销",$F46="外销"),"","")) | AM46: =IF($F46="研发",规则配置!$J$4,IF(OR($F46="内销",$F46="外销"),规则配置!$K$4,"")) | AN46: =IF($F46="研发",规则配置!$J$5,IF(OR($F46="内销",$F46="外销"),规则配置!$K$5,"")) | AO46: =IF($F46="研发",规则配置!$J$6,IF(OR($F46="内销",$F46="外销"),规则配置!$K$6,"")) | AP46: =IF($F46="研发",规则配置!$J$7,IF(OR($F46="内销",$F46="外销"),规则配置!$K$7,"")) | AQ46: =IF($F46="研发",规则配置!$J$8,IF(OR($F46="内销",$F46="外销"),规则配置!$K$8,"")) | AR46: =IF($F46="研发",规则配置!$J$9,IF(OR($F46="内销",$F46="外销"),规则配置!$K$9,"")) | AS46: =IF($F46="研发",规则配置!$J$10,IF(OR($F46="内销",$F46="外销"),规则配置!$K$10,"")) | AT46: =IF($F46="研发",规则配置!$J$11,IF(OR($F46="内销",$F46="外销"),规则配置!$K$11,"")) | AU46: =IF($F46="研发",规则配置!$J$12,IF(OR($F46="内销",$F46="外销"),规则配置!$K$12,"")) | AV46: =IF($F46="研发",规则配置!$J$13,IF(OR($F46="内销",$F46="外销"),规则配置!$K$13,"")) | AW46: =IF($F46="研发","",IF(OR($F46="内销",$F46="外销"),规则配置!$K$14,"")) | BA46: =规则配置!$L47 -> 0 | BC46: =规则配置!$N47 -> 0 | BD46: =规则配置!$O47 -> 0 | BE46: =规则配置!$P47 -> 0
AH47: =IF($D47="","",IF(NOT(ISNUMBER($AE47)),"待确认",IF(TODAY()<=$AE47,"质保内","质保外"))) | AI47: =IF($F47="研发",规则配置!$H$4,IF(OR($F47="内销",$F47="外销"),规则配置!$I$4,"")) | AJ47: =IF($F47="研发",规则配置!$H$5,IF(OR($F47="内销",$F47="外销"),规则配置!$I$5,"")) | AK47: =IF($F47="研发",规则配置!$H$6,IF(OR($F47="内销",$F47="外销"),规则配置!$I$6,"")) | AL47: =IF($F47="研发",规则配置!$H$7,IF(OR($F47="内销",$F47="外销"),"","")) | AM47: =IF($F47="研发",规则配置!$J$4,IF(OR($F47="内销",$F47="外销"),规则配置!$K$4,"")) | AN47: =IF($F47="研发",规则配置!$J$5,IF(OR($F47="内销",$F47="外销"),规则配置!$K$5,"")) | AO47: =IF($F47="研发",规则配置!$J$6,IF(OR($F47="内销",$F47="外销"),规则配置!$K$6,"")) | AP47: =IF($F47="研发",规则配置!$J$7,IF(OR($F47="内销",$F47="外销"),规则配置!$K$7,"")) | AQ47: =IF($F47="研发",规则配置!$J$8,IF(OR($F47="内销",$F47="外销"),规则配置!$K$8,"")) | AR47: =IF($F47="研发",规则配置!$J$9,IF(OR($F47="内销",$F47="外销"),规则配置!$K$9,"")) | AS47: =IF($F47="研发",规则配置!$J$10,IF(OR($F47="内销",$F47="外销"),规则配置!$K$10,"")) | AT47: =IF($F47="研发",规则配置!$J$11,IF(OR($F47="内销",$F47="外销"),规则配置!$K$11,"")) | AU47: =IF($F47="研发",规则配置!$J$12,IF(OR($F47="内销",$F47="外销"),规则配置!$K$12,"")) | AV47: =IF($F47="研发",规则配置!$J$13,IF(OR($F47="内销",$F47="外销"),规则配置!$K$13,"")) | AW47: =IF($F47="研发","",IF(OR($F47="内销",$F47="外销"),规则配置!$K$14,"")) | BA47: =规则配置!$L48 -> 0 | BC47: =规则配置!$N48 -> 0 | BD47: =规则配置!$O48 -> 0 | BE47: =规则配置!$P48 -> 0
AH48: =IF($D48="","",IF(NOT(ISNUMBER($AE48)),"待确认",IF(TODAY()<=$AE48,"质保内","质保外"))) | AI48: =IF($F48="研发",规则配置!$H$4,IF(OR($F48="内销",$F48="外销"),规则配置!$I$4,"")) | AJ48: =IF($F48="研发",规则配置!$H$5,IF(OR($F48="内销",$F48="外销"),规则配置!$I$5,"")) | AK48: =IF($F48="研发",规则配置!$H$6,IF(OR($F48="内销",$F48="外销"),规则配置!$I$6,"")) | AL48: =IF($F48="研发",规则配置!$H$7,IF(OR($F48="内销",$F48="外销"),"","")) | AM48: =IF($F48="研发",规则配置!$J$4,IF(OR($F48="内销",$F48="外销"),规则配置!$K$4,"")) | AN48: =IF($F48="研发",规则配置!$J$5,IF(OR($F48="内销",$F48="外销"),规则配置!$K$5,"")) | AO48: =IF($F48="研发",规则配置!$J$6,IF(OR($F48="内销",$F48="外销"),规则配置!$K$6,"")) | AP48: =IF($F48="研发",规则配置!$J$7,IF(OR($F48="内销",$F48="外销"),规则配置!$K$7,"")) | AQ48: =IF($F48="研发",规则配置!$J$8,IF(OR($F48="内销",$F48="外销"),规则配置!$K$8,"")) | AR48: =IF($F48="研发",规则配置!$J$9,IF(OR($F48="内销",$F48="外销"),规则配置!$K$9,"")) | AS48: =IF($F48="研发",规则配置!$J$10,IF(OR($F48="内销",$F48="外销"),规则配置!$K$10,"")) | AT48: =IF($F48="研发",规则配置!$J$11,IF(OR($F48="内销",$F48="外销"),规则配置!$K$11,"")) | AU48: =IF($F48="研发",规则配置!$J$12,IF(OR($F48="内销",$F48="外销"),规则配置!$K$12,"")) | AV48: =IF($F48="研发",规则配置!$J$13,IF(OR($F48="内销",$F48="外销"),规则配置!$K$13,"")) | AW48: =IF($F48="研发","",IF(OR($F48="内销",$F48="外销"),规则配置!$K$14,"")) | BA48: =规则配置!$L49 -> 0 | BC48: =规则配置!$N49 -> 0 | BD48: =规则配置!$O49 -> 0 | BE48: =规则配置!$P49 -> 0
AH49: =IF($D49="","",IF(NOT(ISNUMBER($AE49)),"待确认",IF(TODAY()<=$AE49,"质保内","质保外"))) | AI49: =IF($F49="研发",规则配置!$H$4,IF(OR($F49="内销",$F49="外销"),规则配置!$I$4,"")) | AJ49: =IF($F49="研发",规则配置!$H$5,IF(OR($F49="内销",$F49="外销"),规则配置!$I$5,"")) | AK49: =IF($F49="研发",规则配置!$H$6,IF(OR($F49="内销",$F49="外销"),规则配置!$I$6,"")) | AL49: =IF($F49="研发",规则配置!$H$7,IF(OR($F49="内销",$F49="外销"),"","")) | AM49: =IF($F49="研发",规则配置!$J$4,IF(OR($F49="内销",$F49="外销"),规则配置!$K$4,"")) | AN49: =IF($F49="研发",规则配置!$J$5,IF(OR($F49="内销",$F49="外销"),规则配置!$K$5,"")) | AO49: =IF($F49="研发",规则配置!$J$6,IF(OR($F49="内销",$F49="外销"),规则配置!$K$6,"")) | AP49: =IF($F49="研发",规则配置!$J$7,IF(OR($F49="内销",$F49="外销"),规则配置!$K$7,"")) | AQ49: =IF($F49="研发",规则配置!$J$8,IF(OR($F49="内销",$F49="外销"),规则配置!$K$8,"")) | AR49: =IF($F49="研发",规则配置!$J$9,IF(OR($F49="内销",$F49="外销"),规则配置!$K$9,"")) | AS49: =IF($F49="研发",规则配置!$J$10,IF(OR($F49="内销",$F49="外销"),规则配置!$K$10,"")) | AT49: =IF($F49="研发",规则配置!$J$11,IF(OR($F49="内销",$F49="外销"),规则配置!$K$11,"")) | AU49: =IF($F49="研发",规则配置!$J$12,IF(OR($F49="内销",$F49="外销"),规则配置!$K$12,"")) | AV49: =IF($F49="研发",规则配置!$J$13,IF(OR($F49="内销",$F49="外销"),规则配置!$K$13,"")) | AW49: =IF($F49="研发","",IF(OR($F49="内销",$F49="外销"),规则配置!$K$14,"")) | BA49: =规则配置!$L50 -> 0 | BC49: =规则配置!$N50 -> 0 | BD49: =规则配置!$O50 -> 0 | BE49: =规则配置!$P50 -> 0
AH50: =IF($D50="","",IF(NOT(ISNUMBER($AE50)),"待确认",IF(TODAY()<=$AE50,"质保内","质保外"))) | AI50: =IF($F50="研发",规则配置!$H$4,IF(OR($F50="内销",$F50="外销"),规则配置!$I$4,"")) | AJ50: =IF($F50="研发",规则配置!$H$5,IF(OR($F50="内销",$F50="外销"),规则配置!$I$5,"")) | AK50: =IF($F50="研发",规则配置!$H$6,IF(OR($F50="内销",$F50="外销"),规则配置!$I$6,"")) | AL50: =IF($F50="研发",规则配置!$H$7,IF(OR($F50="内销",$F50="外销"),"","")) | AM50: =IF($F50="研发",规则配置!$J$4,IF(OR($F50="内销",$F50="外销"),规则配置!$K$4,"")) | AN50: =IF($F50="研发",规则配置!$J$5,IF(OR($F50="内销",$F50="外销"),规则配置!$K$5,"")) | AO50: =IF($F50="研发",规则配置!$J$6,IF(OR($F50="内销",$F50="外销"),规则配置!$K$6,"")) | AP50: =IF($F50="研发",规则配置!$J$7,IF(OR($F50="内销",$F50="外销"),规则配置!$K$7,"")) | AQ50: =IF($F50="研发",规则配置!$J$8,IF(OR($F50="内销",$F50="外销"),规则配置!$K$8,"")) | AR50: =IF($F50="研发",规则配置!$J$9,IF(OR($F50="内销",$F50="外销"),规则配置!$K$9,"")) | AS50: =IF($F50="研发",规则配置!$J$10,IF(OR($F50="内销",$F50="外销"),规则配置!$K$10,"")) | AT50: =IF($F50="研发",规则配置!$J$11,IF(OR($F50="内销",$F50="外销"),规则配置!$K$11,"")) | AU50: =IF($F50="研发",规则配置!$J$12,IF(OR($F50="内销",$F50="外销"),规则配置!$K$12,"")) | AV50: =IF($F50="研发",规则配置!$J$13,IF(OR($F50="内销",$F50="外销"),规则配置!$K$13,"")) | AW50: =IF($F50="研发","",IF(OR($F50="内销",$F50="外销"),规则配置!$K$14,"")) | BA50: =规则配置!$L51 -> 0 | BE50: =规则配置!$P51 -> 0
AH51: =IF($D51="","",IF(NOT(ISNUMBER($AE51)),"待确认",IF(TODAY()<=$AE51,"质保内","质保外"))) | AI51: =IF($F51="研发",规则配置!$H$4,IF(OR($F51="内销",$F51="外销"),规则配置!$I$4,"")) | AJ51: =IF($F51="研发",规则配置!$H$5,IF(OR($F51="内销",$F51="外销"),规则配置!$I$5,"")) | AK51: =IF($F51="研发",规则配置!$H$6,IF(OR($F51="内销",$F51="外销"),规则配置!$I$6,"")) | AL51: =IF($F51="研发",规则配置!$H$7,IF(OR($F51="内销",$F51="外销"),"","")) | AM51: =IF($F51="研发",规则配置!$J$4,IF(OR($F51="内销",$F51="外销"),规则配置!$K$4,"")) | AN51: =IF($F51="研发",规则配置!$J$5,IF(OR($F51="内销",$F51="外销"),规则配置!$K$5,"")) | AO51: =IF($F51="研发",规则配置!$J$6,IF(OR($F51="内销",$F51="外销"),规则配置!$K$6,"")) | AP51: =IF($F51="研发",规则配置!$J$7,IF(OR($F51="内销",$F51="外销"),规则配置!$K$7,"")) | AQ51: =IF($F51="研发",规则配置!$J$8,IF(OR($F51="内销",$F51="外销"),规则配置!$K$8,"")) | AR51: =IF($F51="研发",规则配置!$J$9,IF(OR($F51="内销",$F51="外销"),规则配置!$K$9,"")) | AS51: =IF($F51="研发",规则配置!$J$10,IF(OR($F51="内销",$F51="外销"),规则配置!$K$10,"")) | AT51: =IF($F51="研发",规则配置!$J$11,IF(OR($F51="内销",$F51="外销"),规则配置!$K$11,"")) | AU51: =IF($F51="研发",规则配置!$J$12,IF(OR($F51="内销",$F51="外销"),规则配置!$K$12,"")) | AV51: =IF($F51="研发",规则配置!$J$13,IF(OR($F51="内销",$F51="外销"),规则配置!$K$13,"")) | AW51: =IF($F51="研发","",IF(OR($F51="内销",$F51="外销"),规则配置!$K$14,"")) | BA51: =规则配置!$L52 -> 0 | BE51: =规则配置!$P52 -> 0
AH52: =IF($D52="","",IF(NOT(ISNUMBER($AE52)),"待确认",IF(TODAY()<=$AE52,"质保内","质保外"))) | AI52: =IF($F52="研发",规则配置!$H$4,IF(OR($F52="内销",$F52="外销"),规则配置!$I$4,"")) | AJ52: =IF($F52="研发",规则配置!$H$5,IF(OR($F52="内销",$F52="外销"),规则配置!$I$5,"")) | AK52: =IF($F52="研发",规则配置!$H$6,IF(OR($F52="内销",$F52="外销"),规则配置!$I$6,"")) | AL52: =IF($F52="研发",规则配置!$H$7,IF(OR($F52="内销",$F52="外销"),"","")) | AM52: =IF($F52="研发",规则配置!$J$4,IF(OR($F52="内销",$F52="外销"),规则配置!$K$4,"")) | AN52: =IF($F52="研发",规则配置!$J$5,IF(OR($F52="内销",$F52="外销"),规则配置!$K$5,"")) | AO52: =IF($F52="研发",规则配置!$J$6,IF(OR($F52="内销",$F52="外销"),规则配置!$K$6,"")) | AP52: =IF($F52="研发",规则配置!$J$7,IF(OR($F52="内销",$F52="外销"),规则配置!$K$7,"")) | AQ52: =IF($F52="研发",规则配置!$J$8,IF(OR($F52="内销",$F52="外销"),规则配置!$K$8,"")) | AR52: =IF($F52="研发",规则配置!$J$9,IF(OR($F52="内销",$F52="外销"),规则配置!$K$9,"")) | AS52: =IF($F52="研发",规则配置!$J$10,IF(OR($F52="内销",$F52="外销"),规则配置!$K$10,"")) | AT52: =IF($F52="研发",规则配置!$J$11,IF(OR($F52="内销",$F52="外销"),规则配置!$K$11,"")) | AU52: =IF($F52="研发",规则配置!$J$12,IF(OR($F52="内销",$F52="外销"),规则配置!$K$12,"")) | AV52: =IF($F52="研发",规则配置!$J$13,IF(OR($F52="内销",$F52="外销"),规则配置!$K$13,"")) | AW52: =IF($F52="研发","",IF(OR($F52="内销",$F52="外销"),规则配置!$K$14,"")) | BA52: =规则配置!$L53 -> 0 | BE52: =规则配置!$P53 -> 0
AH53: =IF($D53="","",IF(NOT(ISNUMBER($AE53)),"待确认",IF(TODAY()<=$AE53,"质保内","质保外"))) | AI53: =IF($F53="研发",规则配置!$H$4,IF(OR($F53="内销",$F53="外销"),规则配置!$I$4,"")) | AJ53: =IF($F53="研发",规则配置!$H$5,IF(OR($F53="内销",$F53="外销"),规则配置!$I$5,"")) | AK53: =IF($F53="研发",规则配置!$H$6,IF(OR($F53="内销",$F53="外销"),规则配置!$I$6,"")) | AL53: =IF($F53="研发",规则配置!$H$7,IF(OR($F53="内销",$F53="外销"),"","")) | AM53: =IF($F53="研发",规则配置!$J$4,IF(OR($F53="内销",$F53="外销"),规则配置!$K$4,"")) | AN53: =IF($F53="研发",规则配置!$J$5,IF(OR($F53="内销",$F53="外销"),规则配置!$K$5,"")) | AO53: =IF($F53="研发",规则配置!$J$6,IF(OR($F53="内销",$F53="外销"),规则配置!$K$6,"")) | AP53: =IF($F53="研发",规则配置!$J$7,IF(OR($F53="内销",$F53="外销"),规则配置!$K$7,"")) | AQ53: =IF($F53="研发",规则配置!$J$8,IF(OR($F53="内销",$F53="外销"),规则配置!$K$8,"")) | AR53: =IF($F53="研发",规则配置!$J$9,IF(OR($F53="内销",$F53="外销"),规则配置!$K$9,"")) | AS53: =IF($F53="研发",规则配置!$J$10,IF(OR($F53="内销",$F53="外销"),规则配置!$K$10,"")) | AT53: =IF($F53="研发",规则配置!$J$11,IF(OR($F53="内销",$F53="外销"),规则配置!$K$11,"")) | AU53: =IF($F53="研发",规则配置!$J$12,IF(OR($F53="内销",$F53="外销"),规则配置!$K$12,"")) | AV53: =IF($F53="研发",规则配置!$J$13,IF(OR($F53="内销",$F53="外销"),规则配置!$K$13,"")) | AW53: =IF($F53="研发","",IF(OR($F53="内销",$F53="外销"),规则配置!$K$14,"")) | BA53: =规则配置!$L54 -> 0 | BE53: =规则配置!$P54 -> 0
AH54: =IF($D54="","",IF(NOT(ISNUMBER($AE54)),"待确认",IF(TODAY()<=$AE54,"质保内","质保外"))) | AI54: =IF($F54="研发",规则配置!$H$4,IF(OR($F54="内销",$F54="外销"),规则配置!$I$4,"")) | AJ54: =IF($F54="研发",规则配置!$H$5,IF(OR($F54="内销",$F54="外销"),规则配置!$I$5,"")) | AK54: =IF($F54="研发",规则配置!$H$6,IF(OR($F54="内销",$F54="外销"),规则配置!$I$6,"")) | AL54: =IF($F54="研发",规则配置!$H$7,IF(OR($F54="内销",$F54="外销"),"","")) | AM54: =IF($F54="研发",规则配置!$J$4,IF(OR($F54="内销",$F54="外销"),规则配置!$K$4,"")) | AN54: =IF($F54="研发",规则配置!$J$5,IF(OR($F54="内销",$F54="外销"),规则配置!$K$5,"")) | AO54: =IF($F54="研发",规则配置!$J$6,IF(OR($F54="内销",$F54="外销"),规则配置!$K$6,"")) | AP54: =IF($F54="研发",规则配置!$J$7,IF(OR($F54="内销",$F54="外销"),规则配置!$K$7,"")) | AQ54: =IF($F54="研发",规则配置!$J$8,IF(OR($F54="内销",$F54="外销"),规则配置!$K$8,"")) | AR54: =IF($F54="研发",规则配置!$J$9,IF(OR($F54="内销",$F54="外销"),规则配置!$K$9,"")) | AS54: =IF($F54="研发",规则配置!$J$10,IF(OR($F54="内销",$F54="外销"),规则配置!$K$10,"")) | AT54: =IF($F54="研发",规则配置!$J$11,IF(OR($F54="内销",$F54="外销"),规则配置!$K$11,"")) | AU54: =IF($F54="研发",规则配置!$J$12,IF(OR($F54="内销",$F54="外销"),规则配置!$K$12,"")) | AV54: =IF($F54="研发",规则配置!$J$13,IF(OR($F54="内销",$F54="外销"),规则配置!$K$13,"")) | AW54: =IF($F54="研发","",IF(OR($F54="内销",$F54="外销"),规则配置!$K$14,"")) | BA54: =规则配置!$L55 -> 0 | BE54: =规则配置!$P55 -> 0
AH55: =IF($D55="","",IF(NOT(ISNUMBER($AE55)),"待确认",IF(TODAY()<=$AE55,"质保内","质保外"))) | AI55: =IF($F55="研发",规则配置!$H$4,IF(OR($F55="内销",$F55="外销"),规则配置!$I$4,"")) | AJ55: =IF($F55="研发",规则配置!$H$5,IF(OR($F55="内销",$F55="外销"),规则配置!$I$5,"")) | AK55: =IF($F55="研发",规则配置!$H$6,IF(OR($F55="内销",$F55="外销"),规则配置!$I$6,"")) | AL55: =IF($F55="研发",规则配置!$H$7,IF(OR($F55="内销",$F55="外销"),"","")) | AM55: =IF($F55="研发",规则配置!$J$4,IF(OR($F55="内销",$F55="外销"),规则配置!$K$4,"")) | AN55: =IF($F55="研发",规则配置!$J$5,IF(OR($F55="内销",$F55="外销"),规则配置!$K$5,"")) | AO55: =IF($F55="研发",规则配置!$J$6,IF(OR($F55="内销",$F55="外销"),规则配置!$K$6,"")) | AP55: =IF($F55="研发",规则配置!$J$7,IF(OR($F55="内销",$F55="外销"),规则配置!$K$7,"")) | AQ55: =IF($F55="研发",规则配置!$J$8,IF(OR($F55="内销",$F55="外销"),规则配置!$K$8,"")) | AR55: =IF($F55="研发",规则配置!$J$9,IF(OR($F55="内销",$F55="外销"),规则配置!$K$9,"")) | AS55: =IF($F55="研发",规则配置!$J$10,IF(OR($F55="内销",$F55="外销"),规则配置!$K$10,"")) | AT55: =IF($F55="研发",规则配置!$J$11,IF(OR($F55="内销",$F55="外销"),规则配置!$K$11,"")) | AU55: =IF($F55="研发",规则配置!$J$12,IF(OR($F55="内销",$F55="外销"),规则配置!$K$12,"")) | AV55: =IF($F55="研发",规则配置!$J$13,IF(OR($F55="内销",$F55="外销"),规则配置!$K$13,"")) | AW55: =IF($F55="研发","",IF(OR($F55="内销",$F55="外销"),规则配置!$K$14,"")) | BA55: =规则配置!$L56 -> 0 | BE55: =规则配置!$P56 -> 0
AH56: =IF($D56="","",IF(NOT(ISNUMBER($AE56)),"待确认",IF(TODAY()<=$AE56,"质保内","质保外"))) | AI56: =IF($F56="研发",规则配置!$H$4,IF(OR($F56="内销",$F56="外销"),规则配置!$I$4,"")) | AJ56: =IF($F56="研发",规则配置!$H$5,IF(OR($F56="内销",$F56="外销"),规则配置!$I$5,"")) | AK56: =IF($F56="研发",规则配置!$H$6,IF(OR($F56="内销",$F56="外销"),规则配置!$I$6,"")) | AL56: =IF($F56="研发",规则配置!$H$7,IF(OR($F56="内销",$F56="外销"),"","")) | AM56: =IF($F56="研发",规则配置!$J$4,IF(OR($F56="内销",$F56="外销"),规则配置!$K$4,"")) | AN56: =IF($F56="研发",规则配置!$J$5,IF(OR($F56="内销",$F56="外销"),规则配置!$K$5,"")) | AO56: =IF($F56="研发",规则配置!$J$6,IF(OR($F56="内销",$F56="外销"),规则配置!$K$6,"")) | AP56: =IF($F56="研发",规则配置!$J$7,IF(OR($F56="内销",$F56="外销"),规则配置!$K$7,"")) | AQ56: =IF($F56="研发",规则配置!$J$8,IF(OR($F56="内销",$F56="外销"),规则配置!$K$8,"")) | AR56: =IF($F56="研发",规则配置!$J$9,IF(OR($F56="内销",$F56="外销"),规则配置!$K$9,"")) | AS56: =IF($F56="研发",规则配置!$J$10,IF(OR($F56="内销",$F56="外销"),规则配置!$K$10,"")) | AT56: =IF($F56="研发",规则配置!$J$11,IF(OR($F56="内销",$F56="外销"),规则配置!$K$11,"")) | AU56: =IF($F56="研发",规则配置!$J$12,IF(OR($F56="内销",$F56="外销"),规则配置!$K$12,"")) | AV56: =IF($F56="研发",规则配置!$J$13,IF(OR($F56="内销",$F56="外销"),规则配置!$K$13,"")) | AW56: =IF($F56="研发","",IF(OR($F56="内销",$F56="外销"),规则配置!$K$14,"")) | BA56: =规则配置!$L57 -> 0 | BE56: =规则配置!$P57 -> 0
AH57: =IF($D57="","",IF(NOT(ISNUMBER($AE57)),"待确认",IF(TODAY()<=$AE57,"质保内","质保外"))) | AI57: =IF($F57="研发",规则配置!$H$4,IF(OR($F57="内销",$F57="外销"),规则配置!$I$4,"")) | AJ57: =IF($F57="研发",规则配置!$H$5,IF(OR($F57="内销",$F57="外销"),规则配置!$I$5,"")) | AK57: =IF($F57="研发",规则配置!$H$6,IF(OR($F57="内销",$F57="外销"),规则配置!$I$6,"")) | AL57: =IF($F57="研发",规则配置!$H$7,IF(OR($F57="内销",$F57="外销"),"","")) | AM57: =IF($F57="研发",规则配置!$J$4,IF(OR($F57="内销",$F57="外销"),规则配置!$K$4,"")) | AN57: =IF($F57="研发",规则配置!$J$5,IF(OR($F57="内销",$F57="外销"),规则配置!$K$5,"")) | AO57: =IF($F57="研发",规则配置!$J$6,IF(OR($F57="内销",$F57="外销"),规则配置!$K$6,"")) | AP57: =IF($F57="研发",规则配置!$J$7,IF(OR($F57="内销",$F57="外销"),规则配置!$K$7,"")) | AQ57: =IF($F57="研发",规则配置!$J$8,IF(OR($F57="内销",$F57="外销"),规则配置!$K$8,"")) | AR57: =IF($F57="研发",规则配置!$J$9,IF(OR($F57="内销",$F57="外销"),规则配置!$K$9,"")) | AS57: =IF($F57="研发",规则配置!$J$10,IF(OR($F57="内销",$F57="外销"),规则配置!$K$10,"")) | AT57: =IF($F57="研发",规则配置!$J$11,IF(OR($F57="内销",$F57="外销"),规则配置!$K$11,"")) | AU57: =IF($F57="研发",规则配置!$J$12,IF(OR($F57="内销",$F57="外销"),规则配置!$K$12,"")) | AV57: =IF($F57="研发",规则配置!$J$13,IF(OR($F57="内销",$F57="外销"),规则配置!$K$13,"")) | AW57: =IF($F57="研发","",IF(OR($F57="内销",$F57="外销"),规则配置!$K$14,"")) | BA57: =规则配置!$L58 -> 0 | BE57: =规则配置!$P58 -> 0
AH58: =IF($D58="","",IF(NOT(ISNUMBER($AE58)),"待确认",IF(TODAY()<=$AE58,"质保内","质保外"))) | AI58: =IF($F58="研发",规则配置!$H$4,IF(OR($F58="内销",$F58="外销"),规则配置!$I$4,"")) | AJ58: =IF($F58="研发",规则配置!$H$5,IF(OR($F58="内销",$F58="外销"),规则配置!$I$5,"")) | AK58: =IF($F58="研发",规则配置!$H$6,IF(OR($F58="内销",$F58="外销"),规则配置!$I$6,"")) | AL58: =IF($F58="研发",规则配置!$H$7,IF(OR($F58="内销",$F58="外销"),"","")) | AM58: =IF($F58="研发",规则配置!$J$4,IF(OR($F58="内销",$F58="外销"),规则配置!$K$4,"")) | AN58: =IF($F58="研发",规则配置!$J$5,IF(OR($F58="内销",$F58="外销"),规则配置!$K$5,"")) | AO58: =IF($F58="研发",规则配置!$J$6,IF(OR($F58="内销",$F58="外销"),规则配置!$K$6,"")) | AP58: =IF($F58="研发",规则配置!$J$7,IF(OR($F58="内销",$F58="外销"),规则配置!$K$7,"")) | AQ58: =IF($F58="研发",规则配置!$J$8,IF(OR($F58="内销",$F58="外销"),规则配置!$K$8,"")) | AR58: =IF($F58="研发",规则配置!$J$9,IF(OR($F58="内销",$F58="外销"),规则配置!$K$9,"")) | AS58: =IF($F58="研发",规则配置!$J$10,IF(OR($F58="内销",$F58="外销"),规则配置!$K$10,"")) | AT58: =IF($F58="研发",规则配置!$J$11,IF(OR($F58="内销",$F58="外销"),规则配置!$K$11,"")) | AU58: =IF($F58="研发",规则配置!$J$12,IF(OR($F58="内销",$F58="外销"),规则配置!$K$12,"")) | AV58: =IF($F58="研发",规则配置!$J$13,IF(OR($F58="内销",$F58="外销"),规则配置!$K$13,"")) | AW58: =IF($F58="研发","",IF(OR($F58="内销",$F58="外销"),规则配置!$K$14,"")) | BA58: =规则配置!$L59 -> 0 | BE58: =规则配置!$P59 -> 0
AH59: =IF($D59="","",IF(NOT(ISNUMBER($AE59)),"待确认",IF(TODAY()<=$AE59,"质保内","质保外"))) | AI59: =IF($F59="研发",规则配置!$H$4,IF(OR($F59="内销",$F59="外销"),规则配置!$I$4,"")) | AJ59: =IF($F59="研发",规则配置!$H$5,IF(OR($F59="内销",$F59="外销"),规则配置!$I$5,"")) | AK59: =IF($F59="研发",规则配置!$H$6,IF(OR($F59="内销",$F59="外销"),规则配置!$I$6,"")) | AL59: =IF($F59="研发",规则配置!$H$7,IF(OR($F59="内销",$F59="外销"),"","")) | AM59: =IF($F59="研发",规则配置!$J$4,IF(OR($F59="内销",$F59="外销"),规则配置!$K$4,"")) | AN59: =IF($F59="研发",规则配置!$J$5,IF(OR($F59="内销",$F59="外销"),规则配置!$K$5,"")) | AO59: =IF($F59="研发",规则配置!$J$6,IF(OR($F59="内销",$F59="外销"),规则配置!$K$6,"")) | AP59: =IF($F59="研发",规则配置!$J$7,IF(OR($F59="内销",$F59="外销"),规则配置!$K$7,"")) | AQ59: =IF($F59="研发",规则配置!$J$8,IF(OR($F59="内销",$F59="外销"),规则配置!$K$8,"")) | AR59: =IF($F59="研发",规则配置!$J$9,IF(OR($F59="内销",$F59="外销"),规则配置!$K$9,"")) | AS59: =IF($F59="研发",规则配置!$J$10,IF(OR($F59="内销",$F59="外销"),规则配置!$K$10,"")) | AT59: =IF($F59="研发",规则配置!$J$11,IF(OR($F59="内销",$F59="外销"),规则配置!$K$11,"")) | AU59: =IF($F59="研发",规则配置!$J$12,IF(OR($F59="内销",$F59="外销"),规则配置!$K$12,"")) | AV59: =IF($F59="研发",规则配置!$J$13,IF(OR($F59="内销",$F59="外销"),规则配置!$K$13,"")) | AW59: =IF($F59="研发","",IF(OR($F59="内销",$F59="外销"),规则配置!$K$14,"")) | BA59: =规则配置!$L60 -> 0 | BE59: =规则配置!$P60 -> 0
AH60: =IF($D60="","",IF(NOT(ISNUMBER($AE60)),"待确认",IF(TODAY()<=$AE60,"质保内","质保外"))) | AI60: =IF($F60="研发",规则配置!$H$4,IF(OR($F60="内销",$F60="外销"),规则配置!$I$4,"")) | AJ60: =IF($F60="研发",规则配置!$H$5,IF(OR($F60="内销",$F60="外销"),规则配置!$I$5,"")) | AK60: =IF($F60="研发",规则配置!$H$6,IF(OR($F60="内销",$F60="外销"),规则配置!$I$6,"")) | AL60: =IF($F60="研发",规则配置!$H$7,IF(OR($F60="内销",$F60="外销"),"","")) | AM60: =IF($F60="研发",规则配置!$J$4,IF(OR($F60="内销",$F60="外销"),规则配置!$K$4,"")) | AN60: =IF($F60="研发",规则配置!$J$5,IF(OR($F60="内销",$F60="外销"),规则配置!$K$5,"")) | AO60: =IF($F60="研发",规则配置!$J$6,IF(OR($F60="内销",$F60="外销"),规则配置!$K$6,"")) | AP60: =IF($F60="研发",规则配置!$J$7,IF(OR($F60="内销",$F60="外销"),规则配置!$K$7,"")) | AQ60: =IF($F60="研发",规则配置!$J$8,IF(OR($F60="内销",$F60="外销"),规则配置!$K$8,"")) | AR60: =IF($F60="研发",规则配置!$J$9,IF(OR($F60="内销",$F60="外销"),规则配置!$K$9,"")) | AS60: =IF($F60="研发",规则配置!$J$10,IF(OR($F60="内销",$F60="外销"),规则配置!$K$10,"")) | AT60: =IF($F60="研发",规则配置!$J$11,IF(OR($F60="内销",$F60="外销"),规则配置!$K$11,"")) | AU60: =IF($F60="研发",规则配置!$J$12,IF(OR($F60="内销",$F60="外销"),规则配置!$K$12,"")) | AV60: =IF($F60="研发",规则配置!$J$13,IF(OR($F60="内销",$F60="外销"),规则配置!$K$13,"")) | AW60: =IF($F60="研发","",IF(OR($F60="内销",$F60="外销"),规则配置!$K$14,"")) | BA60: =规则配置!$L61 -> 0
AH61: =IF($D61="","",IF(NOT(ISNUMBER($AE61)),"待确认",IF(TODAY()<=$AE61,"质保内","质保外"))) | AI61: =IF($F61="研发",规则配置!$H$4,IF(OR($F61="内销",$F61="外销"),规则配置!$I$4,"")) | AJ61: =IF($F61="研发",规则配置!$H$5,IF(OR($F61="内销",$F61="外销"),规则配置!$I$5,"")) | AK61: =IF($F61="研发",规则配置!$H$6,IF(OR($F61="内销",$F61="外销"),规则配置!$I$6,"")) | AL61: =IF($F61="研发",规则配置!$H$7,IF(OR($F61="内销",$F61="外销"),"","")) | AM61: =IF($F61="研发",规则配置!$J$4,IF(OR($F61="内销",$F61="外销"),规则配置!$K$4,"")) | AN61: =IF($F61="研发",规则配置!$J$5,IF(OR($F61="内销",$F61="外销"),规则配置!$K$5,"")) | AO61: =IF($F61="研发",规则配置!$J$6,IF(OR($F61="内销",$F61="外销"),规则配置!$K$6,"")) | AP61: =IF($F61="研发",规则配置!$J$7,IF(OR($F61="内销",$F61="外销"),规则配置!$K$7,"")) | AQ61: =IF($F61="研发",规则配置!$J$8,IF(OR($F61="内销",$F61="外销"),规则配置!$K$8,"")) | AR61: =IF($F61="研发",规则配置!$J$9,IF(OR($F61="内销",$F61="外销"),规则配置!$K$9,"")) | AS61: =IF($F61="研发",规则配置!$J$10,IF(OR($F61="内销",$F61="外销"),规则配置!$K$10,"")) | AT61: =IF($F61="研发",规则配置!$J$11,IF(OR($F61="内销",$F61="外销"),规则配置!$K$11,"")) | AU61: =IF($F61="研发",规则配置!$J$12,IF(OR($F61="内销",$F61="外销"),规则配置!$K$12,"")) | AV61: =IF($F61="研发",规则配置!$J$13,IF(OR($F61="内销",$F61="外销"),规则配置!$K$13,"")) | AW61: =IF($F61="研发","",IF(OR($F61="内销",$F61="外销"),规则配置!$K$14,"")) | BA61: =规则配置!$L62 -> 0
AH62: =IF($D62="","",IF(NOT(ISNUMBER($AE62)),"待确认",IF(TODAY()<=$AE62,"质保内","质保外"))) | AI62: =IF($F62="研发",规则配置!$H$4,IF(OR($F62="内销",$F62="外销"),规则配置!$I$4,"")) | AJ62: =IF($F62="研发",规则配置!$H$5,IF(OR($F62="内销",$F62="外销"),规则配置!$I$5,"")) | AK62: =IF($F62="研发",规则配置!$H$6,IF(OR($F62="内销",$F62="外销"),规则配置!$I$6,"")) | AL62: =IF($F62="研发",规则配置!$H$7,IF(OR($F62="内销",$F62="外销"),"","")) | AM62: =IF($F62="研发",规则配置!$J$4,IF(OR($F62="内销",$F62="外销"),规则配置!$K$4,"")) | AN62: =IF($F62="研发",规则配置!$J$5,IF(OR($F62="内销",$F62="外销"),规则配置!$K$5,"")) | AO62: =IF($F62="研发",规则配置!$J$6,IF(OR($F62="内销",$F62="外销"),规则配置!$K$6,"")) | AP62: =IF($F62="研发",规则配置!$J$7,IF(OR($F62="内销",$F62="外销"),规则配置!$K$7,"")) | AQ62: =IF($F62="研发",规则配置!$J$8,IF(OR($F62="内销",$F62="外销"),规则配置!$K$8,"")) | AR62: =IF($F62="研发",规则配置!$J$9,IF(OR($F62="内销",$F62="外销"),规则配置!$K$9,"")) | AS62: =IF($F62="研发",规则配置!$J$10,IF(OR($F62="内销",$F62="外销"),规则配置!$K$10,"")) | AT62: =IF($F62="研发",规则配置!$J$11,IF(OR($F62="内销",$F62="外销"),规则配置!$K$11,"")) | AU62: =IF($F62="研发",规则配置!$J$12,IF(OR($F62="内销",$F62="外销"),规则配置!$K$12,"")) | AV62: =IF($F62="研发",规则配置!$J$13,IF(OR($F62="内销",$F62="外销"),规则配置!$K$13,"")) | AW62: =IF($F62="研发","",IF(OR($F62="内销",$F62="外销"),规则配置!$K$14,"")) | BA62: =规则配置!$L63 -> 0
AH63: =IF($D63="","",IF(NOT(ISNUMBER($AE63)),"待确认",IF(TODAY()<=$AE63,"质保内","质保外"))) | AI63: =IF($F63="研发",规则配置!$H$4,IF(OR($F63="内销",$F63="外销"),规则配置!$I$4,"")) | AJ63: =IF($F63="研发",规则配置!$H$5,IF(OR($F63="内销",$F63="外销"),规则配置!$I$5,"")) | AK63: =IF($F63="研发",规则配置!$H$6,IF(OR($F63="内销",$F63="外销"),规则配置!$I$6,"")) | AL63: =IF($F63="研发",规则配置!$H$7,IF(OR($F63="内销",$F63="外销"),"","")) | AM63: =IF($F63="研发",规则配置!$J$4,IF(OR($F63="内销",$F63="外销"),规则配置!$K$4,"")) | AN63: =IF($F63="研发",规则配置!$J$5,IF(OR($F63="内销",$F63="外销"),规则配置!$K$5,"")) | AO63: =IF($F63="研发",规则配置!$J$6,IF(OR($F63="内销",$F63="外销"),规则配置!$K$6,"")) | AP63: =IF($F63="研发",规则配置!$J$7,IF(OR($F63="内销",$F63="外销"),规则配置!$K$7,"")) | AQ63: =IF($F63="研发",规则配置!$J$8,IF(OR($F63="内销",$F63="外销"),规则配置!$K$8,"")) | AR63: =IF($F63="研发",规则配置!$J$9,IF(OR($F63="内销",$F63="外销"),规则配置!$K$9,"")) | AS63: =IF($F63="研发",规则配置!$J$10,IF(OR($F63="内销",$F63="外销"),规则配置!$K$10,"")) | AT63: =IF($F63="研发",规则配置!$J$11,IF(OR($F63="内销",$F63="外销"),规则配置!$K$11,"")) | AU63: =IF($F63="研发",规则配置!$J$12,IF(OR($F63="内销",$F63="外销"),规则配置!$K$12,"")) | AV63: =IF($F63="研发",规则配置!$J$13,IF(OR($F63="内销",$F63="外销"),规则配置!$K$13,"")) | AW63: =IF($F63="研发","",IF(OR($F63="内销",$F63="外销"),规则配置!$K$14,"")) | BA63: =规则配置!$L64 -> 0
AH64: =IF($D64="","",IF(NOT(ISNUMBER($AE64)),"待确认",IF(TODAY()<=$AE64,"质保内","质保外"))) | AI64: =IF($F64="研发",规则配置!$H$4,IF(OR($F64="内销",$F64="外销"),规则配置!$I$4,"")) | AJ64: =IF($F64="研发",规则配置!$H$5,IF(OR($F64="内销",$F64="外销"),规则配置!$I$5,"")) | AK64: =IF($F64="研发",规则配置!$H$6,IF(OR($F64="内销",$F64="外销"),规则配置!$I$6,"")) | AL64: =IF($F64="研发",规则配置!$H$7,IF(OR($F64="内销",$F64="外销"),"","")) | AM64: =IF($F64="研发",规则配置!$J$4,IF(OR($F64="内销",$F64="外销"),规则配置!$K$4,"")) | AN64: =IF($F64="研发",规则配置!$J$5,IF(OR($F64="内销",$F64="外销"),规则配置!$K$5,"")) | AO64: =IF($F64="研发",规则配置!$J$6,IF(OR($F64="内销",$F64="外销"),规则配置!$K$6,"")) | AP64: =IF($F64="研发",规则配置!$J$7,IF(OR($F64="内销",$F64="外销"),规则配置!$K$7,"")) | AQ64: =IF($F64="研发",规则配置!$J$8,IF(OR($F64="内销",$F64="外销"),规则配置!$K$8,"")) | AR64: =IF($F64="研发",规则配置!$J$9,IF(OR($F64="内销",$F64="外销"),规则配置!$K$9,"")) | AS64: =IF($F64="研发",规则配置!$J$10,IF(OR($F64="内销",$F64="外销"),规则配置!$K$10,"")) | AT64: =IF($F64="研发",规则配置!$J$11,IF(OR($F64="内销",$F64="外销"),规则配置!$K$11,"")) | AU64: =IF($F64="研发",规则配置!$J$12,IF(OR($F64="内销",$F64="外销"),规则配置!$K$12,"")) | AV64: =IF($F64="研发",规则配置!$J$13,IF(OR($F64="内销",$F64="外销"),规则配置!$K$13,"")) | AW64: =IF($F64="研发","",IF(OR($F64="内销",$F64="外销"),规则配置!$K$14,"")) | BA64: =规则配置!$L65 -> 0
AH65: =IF($D65="","",IF(NOT(ISNUMBER($AE65)),"待确认",IF(TODAY()<=$AE65,"质保内","质保外"))) | AI65: =IF($F65="研发",规则配置!$H$4,IF(OR($F65="内销",$F65="外销"),规则配置!$I$4,"")) | AJ65: =IF($F65="研发",规则配置!$H$5,IF(OR($F65="内销",$F65="外销"),规则配置!$I$5,"")) | AK65: =IF($F65="研发",规则配置!$H$6,IF(OR($F65="内销",$F65="外销"),规则配置!$I$6,"")) | AL65: =IF($F65="研发",规则配置!$H$7,IF(OR($F65="内销",$F65="外销"),"","")) | AM65: =IF($F65="研发",规则配置!$J$4,IF(OR($F65="内销",$F65="外销"),规则配置!$K$4,"")) | AN65: =IF($F65="研发",规则配置!$J$5,IF(OR($F65="内销",$F65="外销"),规则配置!$K$5,"")) | AO65: =IF($F65="研发",规则配置!$J$6,IF(OR($F65="内销",$F65="外销"),规则配置!$K$6,"")) | AP65: =IF($F65="研发",规则配置!$J$7,IF(OR($F65="内销",$F65="外销"),规则配置!$K$7,"")) | AQ65: =IF($F65="研发",规则配置!$J$8,IF(OR($F65="内销",$F65="外销"),规则配置!$K$8,"")) | AR65: =IF($F65="研发",规则配置!$J$9,IF(OR($F65="内销",$F65="外销"),规则配置!$K$9,"")) | AS65: =IF($F65="研发",规则配置!$J$10,IF(OR($F65="内销",$F65="外销"),规则配置!$K$10,"")) | AT65: =IF($F65="研发",规则配置!$J$11,IF(OR($F65="内销",$F65="外销"),规则配置!$K$11,"")) | AU65: =IF($F65="研发",规则配置!$J$12,IF(OR($F65="内销",$F65="外销"),规则配置!$K$12,"")) | AV65: =IF($F65="研发",规则配置!$J$13,IF(OR($F65="内销",$F65="外销"),规则配置!$K$13,"")) | AW65: =IF($F65="研发","",IF(OR($F65="内销",$F65="外销"),规则配置!$K$14,"")) | BA65: =规则配置!$L66 -> 0
AH66: =IF($D66="","",IF(NOT(ISNUMBER($AE66)),"待确认",IF(TODAY()<=$AE66,"质保内","质保外"))) | AI66: =IF($F66="研发",规则配置!$H$4,IF(OR($F66="内销",$F66="外销"),规则配置!$I$4,"")) | AJ66: =IF($F66="研发",规则配置!$H$5,IF(OR($F66="内销",$F66="外销"),规则配置!$I$5,"")) | AK66: =IF($F66="研发",规则配置!$H$6,IF(OR($F66="内销",$F66="外销"),规则配置!$I$6,"")) | AL66: =IF($F66="研发",规则配置!$H$7,IF(OR($F66="内销",$F66="外销"),"","")) | AM66: =IF($F66="研发",规则配置!$J$4,IF(OR($F66="内销",$F66="外销"),规则配置!$K$4,"")) | AN66: =IF($F66="研发",规则配置!$J$5,IF(OR($F66="内销",$F66="外销"),规则配置!$K$5,"")) | AO66: =IF($F66="研发",规则配置!$J$6,IF(OR($F66="内销",$F66="外销"),规则配置!$K$6,"")) | AP66: =IF($F66="研发",规则配置!$J$7,IF(OR($F66="内销",$F66="外销"),规则配置!$K$7,"")) | AQ66: =IF($F66="研发",规则配置!$J$8,IF(OR($F66="内销",$F66="外销"),规则配置!$K$8,"")) | AR66: =IF($F66="研发",规则配置!$J$9,IF(OR($F66="内销",$F66="外销"),规则配置!$K$9,"")) | AS66: =IF($F66="研发",规则配置!$J$10,IF(OR($F66="内销",$F66="外销"),规则配置!$K$10,"")) | AT66: =IF($F66="研发",规则配置!$J$11,IF(OR($F66="内销",$F66="外销"),规则配置!$K$11,"")) | AU66: =IF($F66="研发",规则配置!$J$12,IF(OR($F66="内销",$F66="外销"),规则配置!$K$12,"")) | AV66: =IF($F66="研发",规则配置!$J$13,IF(OR($F66="内销",$F66="外销"),规则配置!$K$13,"")) | AW66: =IF($F66="研发","",IF(OR($F66="内销",$F66="外销"),规则配置!$K$14,"")) | BA66: =规则配置!$L67 -> 0
AH67: =IF($D67="","",IF(NOT(ISNUMBER($AE67)),"待确认",IF(TODAY()<=$AE67,"质保内","质保外"))) | AI67: =IF($F67="研发",规则配置!$H$4,IF(OR($F67="内销",$F67="外销"),规则配置!$I$4,"")) | AJ67: =IF($F67="研发",规则配置!$H$5,IF(OR($F67="内销",$F67="外销"),规则配置!$I$5,"")) | AK67: =IF($F67="研发",规则配置!$H$6,IF(OR($F67="内销",$F67="外销"),规则配置!$I$6,"")) | AL67: =IF($F67="研发",规则配置!$H$7,IF(OR($F67="内销",$F67="外销"),"","")) | AM67: =IF($F67="研发",规则配置!$J$4,IF(OR($F67="内销",$F67="外销"),规则配置!$K$4,"")) | AN67: =IF($F67="研发",规则配置!$J$5,IF(OR($F67="内销",$F67="外销"),规则配置!$K$5,"")) | AO67: =IF($F67="研发",规则配置!$J$6,IF(OR($F67="内销",$F67="外销"),规则配置!$K$6,"")) | AP67: =IF($F67="研发",规则配置!$J$7,IF(OR($F67="内销",$F67="外销"),规则配置!$K$7,"")) | AQ67: =IF($F67="研发",规则配置!$J$8,IF(OR($F67="内销",$F67="外销"),规则配置!$K$8,"")) | AR67: =IF($F67="研发",规则配置!$J$9,IF(OR($F67="内销",$F67="外销"),规则配置!$K$9,"")) | AS67: =IF($F67="研发",规则配置!$J$10,IF(OR($F67="内销",$F67="外销"),规则配置!$K$10,"")) | AT67: =IF($F67="研发",规则配置!$J$11,IF(OR($F67="内销",$F67="外销"),规则配置!$K$11,"")) | AU67: =IF($F67="研发",规则配置!$J$12,IF(OR($F67="内销",$F67="外销"),规则配置!$K$12,"")) | AV67: =IF($F67="研发",规则配置!$J$13,IF(OR($F67="内销",$F67="外销"),规则配置!$K$13,"")) | AW67: =IF($F67="研发","",IF(OR($F67="内销",$F67="外销"),规则配置!$K$14,"")) | BA67: =规则配置!$L68 -> 0
AH68: =IF($D68="","",IF(NOT(ISNUMBER($AE68)),"待确认",IF(TODAY()<=$AE68,"质保内","质保外"))) | AI68: =IF($F68="研发",规则配置!$H$4,IF(OR($F68="内销",$F68="外销"),规则配置!$I$4,"")) | AJ68: =IF($F68="研发",规则配置!$H$5,IF(OR($F68="内销",$F68="外销"),规则配置!$I$5,"")) | AK68: =IF($F68="研发",规则配置!$H$6,IF(OR($F68="内销",$F68="外销"),规则配置!$I$6,"")) | AL68: =IF($F68="研发",规则配置!$H$7,IF(OR($F68="内销",$F68="外销"),"","")) | AM68: =IF($F68="研发",规则配置!$J$4,IF(OR($F68="内销",$F68="外销"),规则配置!$K$4,"")) | AN68: =IF($F68="研发",规则配置!$J$5,IF(OR($F68="内销",$F68="外销"),规则配置!$K$5,"")) | AO68: =IF($F68="研发",规则配置!$J$6,IF(OR($F68="内销",$F68="外销"),规则配置!$K$6,"")) | AP68: =IF($F68="研发",规则配置!$J$7,IF(OR($F68="内销",$F68="外销"),规则配置!$K$7,"")) | AQ68: =IF($F68="研发",规则配置!$J$8,IF(OR($F68="内销",$F68="外销"),规则配置!$K$8,"")) | AR68: =IF($F68="研发",规则配置!$J$9,IF(OR($F68="内销",$F68="外销"),规则配置!$K$9,"")) | AS68: =IF($F68="研发",规则配置!$J$10,IF(OR($F68="内销",$F68="外销"),规则配置!$K$10,"")) | AT68: =IF($F68="研发",规则配置!$J$11,IF(OR($F68="内销",$F68="外销"),规则配置!$K$11,"")) | AU68: =IF($F68="研发",规则配置!$J$12,IF(OR($F68="内销",$F68="外销"),规则配置!$K$12,"")) | AV68: =IF($F68="研发",规则配置!$J$13,IF(OR($F68="内销",$F68="外销"),规则配置!$K$13,"")) | AW68: =IF($F68="研发","",IF(OR($F68="内销",$F68="外销"),规则配置!$K$14,"")) | BA68: =规则配置!$L69 -> 0
AH69: =IF($D69="","",IF(NOT(ISNUMBER($AE69)),"待确认",IF(TODAY()<=$AE69,"质保内","质保外"))) | AI69: =IF($F69="研发",规则配置!$H$4,IF(OR($F69="内销",$F69="外销"),规则配置!$I$4,"")) | AJ69: =IF($F69="研发",规则配置!$H$5,IF(OR($F69="内销",$F69="外销"),规则配置!$I$5,"")) | AK69: =IF($F69="研发",规则配置!$H$6,IF(OR($F69="内销",$F69="外销"),规则配置!$I$6,"")) | AL69: =IF($F69="研发",规则配置!$H$7,IF(OR($F69="内销",$F69="外销"),"","")) | AM69: =IF($F69="研发",规则配置!$J$4,IF(OR($F69="内销",$F69="外销"),规则配置!$K$4,"")) | AN69: =IF($F69="研发",规则配置!$J$5,IF(OR($F69="内销",$F69="外销"),规则配置!$K$5,"")) | AO69: =IF($F69="研发",规则配置!$J$6,IF(OR($F69="内销",$F69="外销"),规则配置!$K$6,"")) | AP69: =IF($F69="研发",规则配置!$J$7,IF(OR($F69="内销",$F69="外销"),规则配置!$K$7,"")) | AQ69: =IF($F69="研发",规则配置!$J$8,IF(OR($F69="内销",$F69="外销"),规则配置!$K$8,"")) | AR69: =IF($F69="研发",规则配置!$J$9,IF(OR($F69="内销",$F69="外销"),规则配置!$K$9,"")) | AS69: =IF($F69="研发",规则配置!$J$10,IF(OR($F69="内销",$F69="外销"),规则配置!$K$10,"")) | AT69: =IF($F69="研发",规则配置!$J$11,IF(OR($F69="内销",$F69="外销"),规则配置!$K$11,"")) | AU69: =IF($F69="研发",规则配置!$J$12,IF(OR($F69="内销",$F69="外销"),规则配置!$K$12,"")) | AV69: =IF($F69="研发",规则配置!$J$13,IF(OR($F69="内销",$F69="外销"),规则配置!$K$13,"")) | AW69: =IF($F69="研发","",IF(OR($F69="内销",$F69="外销"),规则配置!$K$14,"")) | BA69: =规则配置!$L70 -> 0
AH70: =IF($D70="","",IF(NOT(ISNUMBER($AE70)),"待确认",IF(TODAY()<=$AE70,"质保内","质保外"))) | AI70: =IF($F70="研发",规则配置!$H$4,IF(OR($F70="内销",$F70="外销"),规则配置!$I$4,"")) | AJ70: =IF($F70="研发",规则配置!$H$5,IF(OR($F70="内销",$F70="外销"),规则配置!$I$5,"")) | AK70: =IF($F70="研发",规则配置!$H$6,IF(OR($F70="内销",$F70="外销"),规则配置!$I$6,"")) | AL70: =IF($F70="研发",规则配置!$H$7,IF(OR($F70="内销",$F70="外销"),"","")) | AM70: =IF($F70="研发",规则配置!$J$4,IF(OR($F70="内销",$F70="外销"),规则配置!$K$4,"")) | AN70: =IF($F70="研发",规则配置!$J$5,IF(OR($F70="内销",$F70="外销"),规则配置!$K$5,"")) | AO70: =IF($F70="研发",规则配置!$J$6,IF(OR($F70="内销",$F70="外销"),规则配置!$K$6,"")) | AP70: =IF($F70="研发",规则配置!$J$7,IF(OR($F70="内销",$F70="外销"),规则配置!$K$7,"")) | AQ70: =IF($F70="研发",规则配置!$J$8,IF(OR($F70="内销",$F70="外销"),规则配置!$K$8,"")) | AR70: =IF($F70="研发",规则配置!$J$9,IF(OR($F70="内销",$F70="外销"),规则配置!$K$9,"")) | AS70: =IF($F70="研发",规则配置!$J$10,IF(OR($F70="内销",$F70="外销"),规则配置!$K$10,"")) | AT70: =IF($F70="研发",规则配置!$J$11,IF(OR($F70="内销",$F70="外销"),规则配置!$K$11,"")) | AU70: =IF($F70="研发",规则配置!$J$12,IF(OR($F70="内销",$F70="外销"),规则配置!$K$12,"")) | AV70: =IF($F70="研发",规则配置!$J$13,IF(OR($F70="内销",$F70="外销"),规则配置!$K$13,"")) | AW70: =IF($F70="研发","",IF(OR($F70="内销",$F70="外销"),规则配置!$K$14,"")) | BA70: =规则配置!$L71 -> 0
AH71: =IF($D71="","",IF(NOT(ISNUMBER($AE71)),"待确认",IF(TODAY()<=$AE71,"质保内","质保外"))) | AI71: =IF($F71="研发",规则配置!$H$4,IF(OR($F71="内销",$F71="外销"),规则配置!$I$4,"")) | AJ71: =IF($F71="研发",规则配置!$H$5,IF(OR($F71="内销",$F71="外销"),规则配置!$I$5,"")) | AK71: =IF($F71="研发",规则配置!$H$6,IF(OR($F71="内销",$F71="外销"),规则配置!$I$6,"")) | AL71: =IF($F71="研发",规则配置!$H$7,IF(OR($F71="内销",$F71="外销"),"","")) | AM71: =IF($F71="研发",规则配置!$J$4,IF(OR($F71="内销",$F71="外销"),规则配置!$K$4,"")) | AN71: =IF($F71="研发",规则配置!$J$5,IF(OR($F71="内销",$F71="外销"),规则配置!$K$5,"")) | AO71: =IF($F71="研发",规则配置!$J$6,IF(OR($F71="内销",$F71="外销"),规则配置!$K$6,"")) | AP71: =IF($F71="研发",规则配置!$J$7,IF(OR($F71="内销",$F71="外销"),规则配置!$K$7,"")) | AQ71: =IF($F71="研发",规则配置!$J$8,IF(OR($F71="内销",$F71="外销"),规则配置!$K$8,"")) | AR71: =IF($F71="研发",规则配置!$J$9,IF(OR($F71="内销",$F71="外销"),规则配置!$K$9,"")) | AS71: =IF($F71="研发",规则配置!$J$10,IF(OR($F71="内销",$F71="外销"),规则配置!$K$10,"")) | AT71: =IF($F71="研发",规则配置!$J$11,IF(OR($F71="内销",$F71="外销"),规则配置!$K$11,"")) | AU71: =IF($F71="研发",规则配置!$J$12,IF(OR($F71="内销",$F71="外销"),规则配置!$K$12,"")) | AV71: =IF($F71="研发",规则配置!$J$13,IF(OR($F71="内销",$F71="外销"),规则配置!$K$13,"")) | AW71: =IF($F71="研发","",IF(OR($F71="内销",$F71="外销"),规则配置!$K$14,"")) | BA71: =规则配置!$L72 -> 0
... AH79: =IF($D79="","",IF(NOT(ISNUMBER($AE79)),"待确认",IF(TODAY()<=$AE79,"质保内","质保外"))) | AI79: =IF($F79="研发",规则配置!$H$4,IF(OR($F79="内销",$F79="外销"),规则配置!$I$4,"")) | AJ79: =IF($F79="研发",规则配置!$H$5,IF(OR($F79="内销",$F79="外销"),规则配置!$I$5,"")) | AK79: =IF($F79="研发",规则配置!$H$6,IF(OR($F79="内销",$F79="外销"),规则配置!$I$6,"")) | AL79: =IF($F79="研发",规则配置!$H$7,IF(OR($F79="内销",$F79="外销"),"","")) | AM79: =IF($F79="研发",规则配置!$J$4,IF(OR($F79="内销",$F79="外销"),规则配置!$K$4,"")) | AN79: =IF($F79="研发",规则配置!$J$5,IF(OR($F79="内销",$F79="外销"),规则配置!$K$5,"")) | AO79: =IF($F79="研发",规则配置!$J$6,IF(OR($F79="内销",$F79="外销"),规则配置!$K$6,"")) | AP79: =IF($F79="研发",规则配置!$J$7,IF(OR($F79="内销",$F79="外销"),规则配置!$K$7,"")) | AQ79: =IF($F79="研发",规则配置!$J$8,IF(OR($F79="内销",$F79="外销"),规则配置!$K$8,"")) | AR79: =IF($F79="研发",规则配置!$J$9,IF(OR($F79="内销",$F79="外销"),规则配置!$K$9,"")) | AS79: =IF($F79="研发",规则配置!$J$10,IF(OR($F79="内销",$F79="外销"),规则配置!$K$10,"")) | AT79: =IF($F79="研发",规则配置!$J$11,IF(OR($F79="内销",$F79="外销"),规则配置!$K$11,"")) | AU79: =IF($F79="研发",规则配置!$J$12,IF(OR($F79="内销",$F79="外销"),规则配置!$K$12,"")) | AV79: =IF($F79="研发",规则配置!$J$13,IF(OR($F79="内销",$F79="外销"),规则配置!$K$13,"")) | AW79: =IF($F79="研发","",IF(OR($F79="内销",$F79="外销"),规则配置!$K$14,"")) | BA79: =规则配置!$L80 -> 0
AH80: =IF($D80="","",IF(NOT(ISNUMBER($AE80)),"待确认",IF(TODAY()<=$AE80,"质保内","质保外"))) | AI80: =IF($F80="研发",规则配置!$H$4,IF(OR($F80="内销",$F80="外销"),规则配置!$I$4,"")) | AJ80: =IF($F80="研发",规则配置!$H$5,IF(OR($F80="内销",$F80="外销"),规则配置!$I$5,"")) | AK80: =IF($F80="研发",规则配置!$H$6,IF(OR($F80="内销",$F80="外销"),规则配置!$I$6,"")) | AL80: =IF($F80="研发",规则配置!$H$7,IF(OR($F80="内销",$F80="外销"),"","")) | AM80: =IF($F80="研发",规则配置!$J$4,IF(OR($F80="内销",$F80="外销"),规则配置!$K$4,"")) | AN80: =IF($F80="研发",规则配置!$J$5,IF(OR($F80="内销",$F80="外销"),规则配置!$K$5,"")) | AO80: =IF($F80="研发",规则配置!$J$6,IF(OR($F80="内销",$F80="外销"),规则配置!$K$6,"")) | AP80: =IF($F80="研发",规则配置!$J$7,IF(OR($F80="内销",$F80="外销"),规则配置!$K$7,"")) | AQ80: =IF($F80="研发",规则配置!$J$8,IF(OR($F80="内销",$F80="外销"),规则配置!$K$8,"")) | AR80: =IF($F80="研发",规则配置!$J$9,IF(OR($F80="内销",$F80="外销"),规则配置!$K$9,"")) | AS80: =IF($F80="研发",规则配置!$J$10,IF(OR($F80="内销",$F80="外销"),规则配置!$K$10,"")) | AT80: =IF($F80="研发",规则配置!$J$11,IF(OR($F80="内销",$F80="外销"),规则配置!$K$11,"")) | AU80: =IF($F80="研发",规则配置!$J$12,IF(OR($F80="内销",$F80="外销"),规则配置!$K$12,"")) | AV80: =IF($F80="研发",规则配置!$J$13,IF(OR($F80="内销",$F80="外销"),规则配置!$K$13,"")) | AW80: =IF($F80="研发","",IF(OR($F80="内销",$F80="外销"),规则配置!$K$14,""))
AH81: =IF($D81="","",IF(NOT(ISNUMBER($AE81)),"待确认",IF(TODAY()<=$AE81,"质保内","质保外"))) | AI81: =IF($F81="研发",规则配置!$H$4,IF(OR($F81="内销",$F81="外销"),规则配置!$I$4,"")) | AJ81: =IF($F81="研发",规则配置!$H$5,IF(OR($F81="内销",$F81="外销"),规则配置!$I$5,"")) | AK81: =IF($F81="研发",规则配置!$H$6,IF(OR($F81="内销",$F81="外销"),规则配置!$I$6,"")) | AL81: =IF($F81="研发",规则配置!$H$7,IF(OR($F81="内销",$F81="外销"),"","")) | AM81: =IF($F81="研发",规则配置!$J$4,IF(OR($F81="内销",$F81="外销"),规则配置!$K$4,"")) | AN81: =IF($F81="研发",规则配置!$J$5,IF(OR($F81="内销",$F81="外销"),规则配置!$K$5,"")) | AO81: =IF($F81="研发",规则配置!$J$6,IF(OR($F81="内销",$F81="外销"),规则配置!$K$6,"")) | AP81: =IF($F81="研发",规则配置!$J$7,IF(OR($F81="内销",$F81="外销"),规则配置!$K$7,"")) | AQ81: =IF($F81="研发",规则配置!$J$8,IF(OR($F81="内销",$F81="外销"),规则配置!$K$8,"")) | AR81: =IF($F81="研发",规则配置!$J$9,IF(OR($F81="内销",$F81="外销"),规则配置!$K$9,"")) | AS81: =IF($F81="研发",规则配置!$J$10,IF(OR($F81="内销",$F81="外销"),规则配置!$K$10,"")) | AT81: =IF($F81="研发",规则配置!$J$11,IF(OR($F81="内销",$F81="外销"),规则配置!$K$11,"")) | AU81: =IF($F81="研发",规则配置!$J$12,IF(OR($F81="内销",$F81="外销"),规则配置!$K$12,"")) | AV81: =IF($F81="研发",规则配置!$J$13,IF(OR($F81="内销",$F81="外销"),规则配置!$K$13,"")) | AW81: =IF($F81="研发","",IF(OR($F81="内销",$F81="外销"),规则配置!$K$14,""))
AH82: =IF($D82="","",IF(NOT(ISNUMBER($AE82)),"待确认",IF(TODAY()<=$AE82,"质保内","质保外"))) | AI82: =IF($F82="研发",规则配置!$H$4,IF(OR($F82="内销",$F82="外销"),规则配置!$I$4,"")) | AJ82: =IF($F82="研发",规则配置!$H$5,IF(OR($F82="内销",$F82="外销"),规则配置!$I$5,"")) | AK82: =IF($F82="研发",规则配置!$H$6,IF(OR($F82="内销",$F82="外销"),规则配置!$I$6,"")) | AL82: =IF($F82="研发",规则配置!$H$7,IF(OR($F82="内销",$F82="外销"),"","")) | AM82: =IF($F82="研发",规则配置!$J$4,IF(OR($F82="内销",$F82="外销"),规则配置!$K$4,"")) | AN82: =IF($F82="研发",规则配置!$J$5,IF(OR($F82="内销",$F82="外销"),规则配置!$K$5,"")) | AO82: =IF($F82="研发",规则配置!$J$6,IF(OR($F82="内销",$F82="外销"),规则配置!$K$6,"")) | AP82: =IF($F82="研发",规则配置!$J$7,IF(OR($F82="内销",$F82="外销"),规则配置!$K$7,"")) | AQ82: =IF($F82="研发",规则配置!$J$8,IF(OR($F82="内销",$F82="外销"),规则配置!$K$8,"")) | AR82: =IF($F82="研发",规则配置!$J$9,IF(OR($F82="内销",$F82="外销"),规则配置!$K$9,"")) | AS82: =IF($F82="研发",规则配置!$J$10,IF(OR($F82="内销",$F82="外销"),规则配置!$K$10,"")) | AT82: =IF($F82="研发",规则配置!$J$11,IF(OR($F82="内销",$F82="外销"),规则配置!$K$11,"")) | AU82: =IF($F82="研发",规则配置!$J$12,IF(OR($F82="内销",$F82="外销"),规则配置!$K$12,"")) | AV82: =IF($F82="研发",规则配置!$J$13,IF(OR($F82="内销",$F82="外销"),规则配置!$K$13,"")) | AW82: =IF($F82="研发","",IF(OR($F82="内销",$F82="外销"),规则配置!$K$14,""))
AH83: =IF($D83="","",IF(NOT(ISNUMBER($AE83)),"待确认",IF(TODAY()<=$AE83,"质保内","质保外"))) | AI83: =IF($F83="研发",规则配置!$H$4,IF(OR($F83="内销",$F83="外销"),规则配置!$I$4,"")) | AJ83: =IF($F83="研发",规则配置!$H$5,IF(OR($F83="内销",$F83="外销"),规则配置!$I$5,"")) | AK83: =IF($F83="研发",规则配置!$H$6,IF(OR($F83="内销",$F83="外销"),规则配置!$I$6,"")) | AL83: =IF($F83="研发",规则配置!$H$7,IF(OR($F83="内销",$F83="外销"),"","")) | AM83: =IF($F83="研发",规则配置!$J$4,IF(OR($F83="内销",$F83="外销"),规则配置!$K$4,"")) | AN83: =IF($F83="研发",规则配置!$J$5,IF(OR($F83="内销",$F83="外销"),规则配置!$K$5,"")) | AO83: =IF($F83="研发",规则配置!$J$6,IF(OR($F83="内销",$F83="外销"),规则配置!$K$6,"")) | AP83: =IF($F83="研发",规则配置!$J$7,IF(OR($F83="内销",$F83="外销"),规则配置!$K$7,"")) | AQ83: =IF($F83="研发",规则配置!$J$8,IF(OR($F83="内销",$F83="外销"),规则配置!$K$8,"")) | AR83: =IF($F83="研发",规则配置!$J$9,IF(OR($F83="内销",$F83="外销"),规则配置!$K$9,"")) | AS83: =IF($F83="研发",规则配置!$J$10,IF(OR($F83="内销",$F83="外销"),规则配置!$K$10,"")) | AT83: =IF($F83="研发",规则配置!$J$11,IF(OR($F83="内销",$F83="外销"),规则配置!$K$11,"")) | AU83: =IF($F83="研发",规则配置!$J$12,IF(OR($F83="内销",$F83="外销"),规则配置!$K$12,"")) | AV83: =IF($F83="研发",规则配置!$J$13,IF(OR($F83="内销",$F83="外销"),规则配置!$K$13,"")) | AW83: =IF($F83="研发","",IF(OR($F83="内销",$F83="外销"),规则配置!$K$14,""))
AH84: =IF($D84="","",IF(NOT(ISNUMBER($AE84)),"待确认",IF(TODAY()<=$AE84,"质保内","质保外"))) | AI84: =IF($F84="研发",规则配置!$H$4,IF(OR($F84="内销",$F84="外销"),规则配置!$I$4,"")) | AJ84: =IF($F84="研发",规则配置!$H$5,IF(OR($F84="内销",$F84="外销"),规则配置!$I$5,"")) | AK84: =IF($F84="研发",规则配置!$H$6,IF(OR($F84="内销",$F84="外销"),规则配置!$I$6,"")) | AL84: =IF($F84="研发",规则配置!$H$7,IF(OR($F84="内销",$F84="外销"),"","")) | AM84: =IF($F84="研发",规则配置!$J$4,IF(OR($F84="内销",$F84="外销"),规则配置!$K$4,"")) | AN84: =IF($F84="研发",规则配置!$J$5,IF(OR($F84="内销",$F84="外销"),规则配置!$K$5,"")) | AO84: =IF($F84="研发",规则配置!$J$6,IF(OR($F84="内销",$F84="外销"),规则配置!$K$6,"")) | AP84: =IF($F84="研发",规则配置!$J$7,IF(OR($F84="内销",$F84="外销"),规则配置!$K$7,"")) | AQ84: =IF($F84="研发",规则配置!$J$8,IF(OR($F84="内销",$F84="外销"),规则配置!$K$8,"")) | AR84: =IF($F84="研发",规则配置!$J$9,IF(OR($F84="内销",$F84="外销"),规则配置!$K$9,"")) | AS84: =IF($F84="研发",规则配置!$J$10,IF(OR($F84="内销",$F84="外销"),规则配置!$K$10,"")) | AT84: =IF($F84="研发",规则配置!$J$11,IF(OR($F84="内销",$F84="外销"),规则配置!$K$11,"")) | AU84: =IF($F84="研发",规则配置!$J$12,IF(OR($F84="内销",$F84="外销"),规则配置!$K$12,"")) | AV84: =IF($F84="研发",规则配置!$J$13,IF(OR($F84="内销",$F84="外销"),规则配置!$K$13,"")) | AW84: =IF($F84="研发","",IF(OR($F84="内销",$F84="外销"),规则配置!$K$14,""))
AH85: =IF($D85="","",IF(NOT(ISNUMBER($AE85)),"待确认",IF(TODAY()<=$AE85,"质保内","质保外"))) | AI85: =IF($F85="研发",规则配置!$H$4,IF(OR($F85="内销",$F85="外销"),规则配置!$I$4,"")) | AJ85: =IF($F85="研发",规则配置!$H$5,IF(OR($F85="内销",$F85="外销"),规则配置!$I$5,"")) | AK85: =IF($F85="研发",规则配置!$H$6,IF(OR($F85="内销",$F85="外销"),规则配置!$I$6,"")) | AL85: =IF($F85="研发",规则配置!$H$7,IF(OR($F85="内销",$F85="外销"),"","")) | AM85: =IF($F85="研发",规则配置!$J$4,IF(OR($F85="内销",$F85="外销"),规则配置!$K$4,"")) | AN85: =IF($F85="研发",规则配置!$J$5,IF(OR($F85="内销",$F85="外销"),规则配置!$K$5,"")) | AO85: =IF($F85="研发",规则配置!$J$6,IF(OR($F85="内销",$F85="外销"),规则配置!$K$6,"")) | AP85: =IF($F85="研发",规则配置!$J$7,IF(OR($F85="内销",$F85="外销"),规则配置!$K$7,"")) | AQ85: =IF($F85="研发",规则配置!$J$8,IF(OR($F85="内销",$F85="外销"),规则配置!$K$8,"")) | AR85: =IF($F85="研发",规则配置!$J$9,IF(OR($F85="内销",$F85="外销"),规则配置!$K$9,"")) | AS85: =IF($F85="研发",规则配置!$J$10,IF(OR($F85="内销",$F85="外销"),规则配置!$K$10,"")) | AT85: =IF($F85="研发",规则配置!$J$11,IF(OR($F85="内销",$F85="外销"),规则配置!$K$11,"")) | AU85: =IF($F85="研发",规则配置!$J$12,IF(OR($F85="内销",$F85="外销"),规则配置!$K$12,"")) | AV85: =IF($F85="研发",规则配置!$J$13,IF(OR($F85="内销",$F85="外销"),规则配置!$K$13,"")) | AW85: =IF($F85="研发","",IF(OR($F85="内销",$F85="外销"),规则配置!$K$14,""))
AH86: =IF($D86="","",IF(NOT(ISNUMBER($AE86)),"待确认",IF(TODAY()<=$AE86,"质保内","质保外"))) | AI86: =IF($F86="研发",规则配置!$H$4,IF(OR($F86="内销",$F86="外销"),规则配置!$I$4,"")) | AJ86: =IF($F86="研发",规则配置!$H$5,IF(OR($F86="内销",$F86="外销"),规则配置!$I$5,"")) | AK86: =IF($F86="研发",规则配置!$H$6,IF(OR($F86="内销",$F86="外销"),规则配置!$I$6,"")) | AL86: =IF($F86="研发",规则配置!$H$7,IF(OR($F86="内销",$F86="外销"),"","")) | AM86: =IF($F86="研发",规则配置!$J$4,IF(OR($F86="内销",$F86="外销"),规则配置!$K$4,"")) | AN86: =IF($F86="研发",规则配置!$J$5,IF(OR($F86="内销",$F86="外销"),规则配置!$K$5,"")) | AO86: =IF($F86="研发",规则配置!$J$6,IF(OR($F86="内销",$F86="外销"),规则配置!$K$6,"")) | AP86: =IF($F86="研发",规则配置!$J$7,IF(OR($F86="内销",$F86="外销"),规则配置!$K$7,"")) | AQ86: =IF($F86="研发",规则配置!$J$8,IF(OR($F86="内销",$F86="外销"),规则配置!$K$8,"")) | AR86: =IF($F86="研发",规则配置!$J$9,IF(OR($F86="内销",$F86="外销"),规则配置!$K$9,"")) | AS86: =IF($F86="研发",规则配置!$J$10,IF(OR($F86="内销",$F86="外销"),规则配置!$K$10,"")) | AT86: =IF($F86="研发",规则配置!$J$11,IF(OR($F86="内销",$F86="外销"),规则配置!$K$11,"")) | AU86: =IF($F86="研发",规则配置!$J$12,IF(OR($F86="内销",$F86="外销"),规则配置!$K$12,"")) | AV86: =IF($F86="研发",规则配置!$J$13,IF(OR($F86="内销",$F86="外销"),规则配置!$K$13,"")) | AW86: =IF($F86="研发","",IF(OR($F86="内销",$F86="外销"),规则配置!$K$14,""))
AH87: =IF($D87="","",IF(NOT(ISNUMBER($AE87)),"待确认",IF(TODAY()<=$AE87,"质保内","质保外"))) | AI87: =IF($F87="研发",规则配置!$H$4,IF(OR($F87="内销",$F87="外销"),规则配置!$I$4,"")) | AJ87: =IF($F87="研发",规则配置!$H$5,IF(OR($F87="内销",$F87="外销"),规则配置!$I$5,"")) | AK87: =IF($F87="研发",规则配置!$H$6,IF(OR($F87="内销",$F87="外销"),规则配置!$I$6,"")) | AL87: =IF($F87="研发",规则配置!$H$7,IF(OR($F87="内销",$F87="外销"),"","")) | AM87: =IF($F87="研发",规则配置!$J$4,IF(OR($F87="内销",$F87="外销"),规则配置!$K$4,"")) | AN87: =IF($F87="研发",规则配置!$J$5,IF(OR($F87="内销",$F87="外销"),规则配置!$K$5,"")) | AO87: =IF($F87="研发",规则配置!$J$6,IF(OR($F87="内销",$F87="外销"),规则配置!$K$6,"")) | AP87: =IF($F87="研发",规则配置!$J$7,IF(OR($F87="内销",$F87="外销"),规则配置!$K$7,"")) | AQ87: =IF($F87="研发",规则配置!$J$8,IF(OR($F87="内销",$F87="外销"),规则配置!$K$8,"")) | AR87: =IF($F87="研发",规则配置!$J$9,IF(OR($F87="内销",$F87="外销"),规则配置!$K$9,"")) | AS87: =IF($F87="研发",规则配置!$J$10,IF(OR($F87="内销",$F87="外销"),规则配置!$K$10,"")) | AT87: =IF($F87="研发",规则配置!$J$11,IF(OR($F87="内销",$F87="外销"),规则配置!$K$11,"")) | AU87: =IF($F87="研发",规则配置!$J$12,IF(OR($F87="内销",$F87="外销"),规则配置!$K$12,"")) | AV87: =IF($F87="研发",规则配置!$J$13,IF(OR($F87="内销",$F87="外销"),规则配置!$K$13,"")) | AW87: =IF($F87="研发","",IF(OR($F87="内销",$F87="外销"),规则配置!$K$14,""))
AH88: =IF($D88="","",IF(NOT(ISNUMBER($AE88)),"待确认",IF(TODAY()<=$AE88,"质保内","质保外"))) | AI88: =IF($F88="研发",规则配置!$H$4,IF(OR($F88="内销",$F88="外销"),规则配置!$I$4,"")) | AJ88: =IF($F88="研发",规则配置!$H$5,IF(OR($F88="内销",$F88="外销"),规则配置!$I$5,"")) | AK88: =IF($F88="研发",规则配置!$H$6,IF(OR($F88="内销",$F88="外销"),规则配置!$I$6,"")) | AL88: =IF($F88="研发",规则配置!$H$7,IF(OR($F88="内销",$F88="外销"),"","")) | AM88: =IF($F88="研发",规则配置!$J$4,IF(OR($F88="内销",$F88="外销"),规则配置!$K$4,"")) | AN88: =IF($F88="研发",规则配置!$J$5,IF(OR($F88="内销",$F88="外销"),规则配置!$K$5,"")) | AO88: =IF($F88="研发",规则配置!$J$6,IF(OR($F88="内销",$F88="外销"),规则配置!$K$6,"")) | AP88: =IF($F88="研发",规则配置!$J$7,IF(OR($F88="内销",$F88="外销"),规则配置!$K$7,"")) | AQ88: =IF($F88="研发",规则配置!$J$8,IF(OR($F88="内销",$F88="外销"),规则配置!$K$8,"")) | AR88: =IF($F88="研发",规则配置!$J$9,IF(OR($F88="内销",$F88="外销"),规则配置!$K$9,"")) | AS88: =IF($F88="研发",规则配置!$J$10,IF(OR($F88="内销",$F88="外销"),规则配置!$K$10,"")) | AT88: =IF($F88="研发",规则配置!$J$11,IF(OR($F88="内销",$F88="外销"),规则配置!$K$11,"")) | AU88: =IF($F88="研发",规则配置!$J$12,IF(OR($F88="内销",$F88="外销"),规则配置!$K$12,"")) | AV88: =IF($F88="研发",规则配置!$J$13,IF(OR($F88="内销",$F88="外销"),规则配置!$K$13,"")) | AW88: =IF($F88="研发","",IF(OR($F88="内销",$F88="外销"),规则配置!$K$14,""))
AH89: =IF($D89="","",IF(NOT(ISNUMBER($AE89)),"待确认",IF(TODAY()<=$AE89,"质保内","质保外"))) | AI89: =IF($F89="研发",规则配置!$H$4,IF(OR($F89="内销",$F89="外销"),规则配置!$I$4,"")) | AJ89: =IF($F89="研发",规则配置!$H$5,IF(OR($F89="内销",$F89="外销"),规则配置!$I$5,"")) | AK89: =IF($F89="研发",规则配置!$H$6,IF(OR($F89="内销",$F89="外销"),规则配置!$I$6,"")) | AL89: =IF($F89="研发",规则配置!$H$7,IF(OR($F89="内销",$F89="外销"),"","")) | AM89: =IF($F89="研发",规则配置!$J$4,IF(OR($F89="内销",$F89="外销"),规则配置!$K$4,"")) | AN89: =IF($F89="研发",规则配置!$J$5,IF(OR($F89="内销",$F89="外销"),规则配置!$K$5,"")) | AO89: =IF($F89="研发",规则配置!$J$6,IF(OR($F89="内销",$F89="外销"),规则配置!$K$6,"")) | AP89: =IF($F89="研发",规则配置!$J$7,IF(OR($F89="内销",$F89="外销"),规则配置!$K$7,"")) | AQ89: =IF($F89="研发",规则配置!$J$8,IF(OR($F89="内销",$F89="外销"),规则配置!$K$8,"")) | AR89: =IF($F89="研发",规则配置!$J$9,IF(OR($F89="内销",$F89="外销"),规则配置!$K$9,"")) | AS89: =IF($F89="研发",规则配置!$J$10,IF(OR($F89="内销",$F89="外销"),规则配置!$K$10,"")) | AT89: =IF($F89="研发",规则配置!$J$11,IF(OR($F89="内销",$F89="外销"),规则配置!$K$11,"")) | AU89: =IF($F89="研发",规则配置!$J$12,IF(OR($F89="内销",$F89="外销"),规则配置!$K$12,"")) | AV89: =IF($F89="研发",规则配置!$J$13,IF(OR($F89="内销",$F89="外销"),规则配置!$K$13,"")) | AW89: =IF($F89="研发","",IF(OR($F89="内销",$F89="外销"),规则配置!$K$14,""))
AH90: =IF($D90="","",IF(NOT(ISNUMBER($AE90)),"待确认",IF(TODAY()<=$AE90,"质保内","质保外"))) | AI90: =IF($F90="研发",规则配置!$H$4,IF(OR($F90="内销",$F90="外销"),规则配置!$I$4,"")) | AJ90: =IF($F90="研发",规则配置!$H$5,IF(OR($F90="内销",$F90="外销"),规则配置!$I$5,"")) | AK90: =IF($F90="研发",规则配置!$H$6,IF(OR($F90="内销",$F90="外销"),规则配置!$I$6,"")) | AL90: =IF($F90="研发",规则配置!$H$7,IF(OR($F90="内销",$F90="外销"),"","")) | AM90: =IF($F90="研发",规则配置!$J$4,IF(OR($F90="内销",$F90="外销"),规则配置!$K$4,"")) | AN90: =IF($F90="研发",规则配置!$J$5,IF(OR($F90="内销",$F90="外销"),规则配置!$K$5,"")) | AO90: =IF($F90="研发",规则配置!$J$6,IF(OR($F90="内销",$F90="外销"),规则配置!$K$6,"")) | AP90: =IF($F90="研发",规则配置!$J$7,IF(OR($F90="内销",$F90="外销"),规则配置!$K$7,"")) | AQ90: =IF($F90="研发",规则配置!$J$8,IF(OR($F90="内销",$F90="外销"),规则配置!$K$8,"")) | AR90: =IF($F90="研发",规则配置!$J$9,IF(OR($F90="内销",$F90="外销"),规则配置!$K$9,"")) | AS90: =IF($F90="研发",规则配置!$J$10,IF(OR($F90="内销",$F90="外销"),规则配置!$K$10,"")) | AT90: =IF($F90="研发",规则配置!$J$11,IF(OR($F90="内销",$F90="外销"),规则配置!$K$11,"")) | AU90: =IF($F90="研发",规则配置!$J$12,IF(OR($F90="内销",$F90="外销"),规则配置!$K$12,"")) | AV90: =IF($F90="研发",规则配置!$J$13,IF(OR($F90="内销",$F90="外销"),规则配置!$K$13,"")) | AW90: =IF($F90="研发","",IF(OR($F90="内销",$F90="外销"),规则配置!$K$14,""))
AH91: =IF($D91="","",IF(NOT(ISNUMBER($AE91)),"待确认",IF(TODAY()<=$AE91,"质保内","质保外"))) | AI91: =IF($F91="研发",规则配置!$H$4,IF(OR($F91="内销",$F91="外销"),规则配置!$I$4,"")) | AJ91: =IF($F91="研发",规则配置!$H$5,IF(OR($F91="内销",$F91="外销"),规则配置!$I$5,"")) | AK91: =IF($F91="研发",规则配置!$H$6,IF(OR($F91="内销",$F91="外销"),规则配置!$I$6,"")) | AL91: =IF($F91="研发",规则配置!$H$7,IF(OR($F91="内销",$F91="外销"),"","")) | AM91: =IF($F91="研发",规则配置!$J$4,IF(OR($F91="内销",$F91="外销"),规则配置!$K$4,"")) | AN91: =IF($F91="研发",规则配置!$J$5,IF(OR($F91="内销",$F91="外销"),规则配置!$K$5,"")) | AO91: =IF($F91="研发",规则配置!$J$6,IF(OR($F91="内销",$F91="外销"),规则配置!$K$6,"")) | AP91: =IF($F91="研发",规则配置!$J$7,IF(OR($F91="内销",$F91="外销"),规则配置!$K$7,"")) | AQ91: =IF($F91="研发",规则配置!$J$8,IF(OR($F91="内销",$F91="外销"),规则配置!$K$8,"")) | AR91: =IF($F91="研发",规则配置!$J$9,IF(OR($F91="内销",$F91="外销"),规则配置!$K$9,"")) | AS91: =IF($F91="研发",规则配置!$J$10,IF(OR($F91="内销",$F91="外销"),规则配置!$K$10,"")) | AT91: =IF($F91="研发",规则配置!$J$11,IF(OR($F91="内销",$F91="外销"),规则配置!$K$11,"")) | AU91: =IF($F91="研发",规则配置!$J$12,IF(OR($F91="内销",$F91="外销"),规则配置!$K$12,"")) | AV91: =IF($F91="研发",规则配置!$J$13,IF(OR($F91="内销",$F91="外销"),规则配置!$K$13,"")) | AW91: =IF($F91="研发","",IF(OR($F91="内销",$F91="外销"),规则配置!$K$14,""))
... AH205: =IF($D205="","",IF(NOT(ISNUMBER($AE205)),"待确认",IF(TODAY()<=$AE205,"质保内","质保外"))) | AI205: =IF($F205="研发",规则配置!$H$4,IF(OR($F205="内销",$F205="外销"),规则配置!$I$4,"")) | AJ205: =IF($F205="研发",规则配置!$H$5,IF(OR($F205="内销",$F205="外销"),规则配置!$I$5,"")) | AK205: =IF($F205="研发",规则配置!$H$6,IF(OR($F205="内销",$F205="外销"),规则配置!$I$6,"")) | AL205: =IF($F205="研发",规则配置!$H$7,IF(OR($F205="内销",$F205="外销"),"","")) | AM205: =IF($F205="研发",规则配置!$J$4,IF(OR($F205="内销",$F205="外销"),规则配置!$K$4,"")) | AN205: =IF($F205="研发",规则配置!$J$5,IF(OR($F205="内销",$F205="外销"),规则配置!$K$5,"")) | AO205: =IF($F205="研发",规则配置!$J$6,IF(OR($F205="内销",$F205="外销"),规则配置!$K$6,"")) | AP205: =IF($F205="研发",规则配置!$J$7,IF(OR($F205="内销",$F205="外销"),规则配置!$K$7,"")) | AQ205: =IF($F205="研发",规则配置!$J$8,IF(OR($F205="内销",$F205="外销"),规则配置!$K$8,"")) | AR205: =IF($F205="研发",规则配置!$J$9,IF(OR($F205="内销",$F205="外销"),规则配置!$K$9,"")) | AS205: =IF($F205="研发",规则配置!$J$10,IF(OR($F205="内销",$F205="外销"),规则配置!$K$10,"")) | AT205: =IF($F205="研发",规则配置!$J$11,IF(OR($F205="内销",$F205="外销"),规则配置!$K$11,"")) | AU205: =IF($F205="研发",规则配置!$J$12,IF(OR($F205="内销",$F205="外销"),规则配置!$K$12,"")) | AV205: =IF($F205="研发",规则配置!$J$13,IF(OR($F205="内销",$F205="外销"),规则配置!$K$13,"")) | AW205: =IF($F205="研发","",IF(OR($F205="内销",$F205="外销"),规则配置!$K$14,""))
